BEGIN:VCALENDAR
VERSION:2.0
PRODID:-//W Sercu Stolicy - ECPv6.2.8.1//NONSGML v1.0//EN
CALSCALE:GREGORIAN
METHOD:PUBLISH
X-ORIGINAL-URL:https://wsercustolicy.pl
X-WR-CALDESC:Events for W Sercu Stolicy
REFRESH-INTERVAL;VALUE=DURATION:PT1H
X-Robots-Tag:noindex
X-PUBLISHED-TTL:PT1H
BEGIN:VTIMEZONE
TZID:Europe/Warsaw
BEGIN:DAYLIGHT
TZOFFSETFROM:+0100
TZOFFSETTO:+0200
TZNAME:CEST
DTSTART:20240331T010000
END:DAYLIGHT
BEGIN:STANDARD
TZOFFSETFROM:+0200
TZOFFSETTO:+0100
TZNAME:CET
DTSTART:20241027T010000
END:STANDARD
END:VTIMEZONE
BEGIN:VEVENT
DTSTART;TZID=Europe/Warsaw:20241103T193000
DTEND;TZID=Europe/Warsaw:20241103T193000
DTSTAMP:20260423T182003
CREATED:20241001T094451Z
LAST-MODIFIED:20241014T095330Z
UID:1014-1730662200-1730662200@wsercustolicy.pl
SUMMARY:III Zaduszki Jazzowe W Sercu Stolicy
DESCRIPTION:Zaduszkowy jazz po raz trzeci zabrzmi w podziemiach w sercu stolicy! Jesień i listopad sprzyja muzycznym wspomnieniom więc dajmy się ponieść nostalgii przy dźwiękach dobrej muzyki.  Jak co roku\, wystąpi niezastąpiony „Dixie Fellows” – wzjt! \nIII Zaduszki Jazzowe W Sercu Stolicy \n\nniedziela – 3 listopada – godzina 19:30\nScena Stygmat – sala widowiskowa w podziemiach Kościoła Wszystkich Świętych na Placu Grzybowskim w Warszawie\nWejścia do podziemi pod arkadami – od strony lewej (wschodniej) winda i schody\, od strony prawej (zachodniej) schody\n\nDarmowe wejściówki do pobrania online (kliknij tutaj i pobierz wejściówkę) \nlub w wersji papierowej do odbioru w kancelarii parafialnej (od poniedziałku do piątku) lub w zakrystii kościoła (w niedzielę).
URL:https://wsercustolicy.pl/event/zaduszki-jazzowe/
LOCATION:Scena Stygmat – sala widowiskowa w podziemiach kościoła Wszystkich Świętych\, Plac Grzybowski 3/5\, Warszawa\, 00-115\, Poland
CATEGORIES:koncert
ATTACH;FMTTYPE=image/png:https://wsercustolicy.pl/wp-content/uploads/2024/10/Graf_Wyd.png
END:VEVENT
BEGIN:VEVENT
DTSTART;TZID=Europe/Warsaw:20241109T200000
DTEND;TZID=Europe/Warsaw:20241109T200000
DTSTAMP:20260423T182003
CREATED:20241001T095126Z
LAST-MODIFIED:20241001T095126Z
UID:1018-1731182400-1731182400@wsercustolicy.pl
SUMMARY:Gurdjieff Ensemble: Zartir - Przebudzenie | Festiwal Eufonie
DESCRIPTION:Armeńska tradycja\, fascynacja naturą\, wolność ducha. Gurdijeff Ensemble zabierze słuchaczy w podróż pełną ducha orientu\, armeńskiej poezji za sprawą zaaranżowanych na instrumenty tradycyjne przez Levona Eskeniana utworów Georgija Gurdjieffa\, Paghtasara Dpira\, Ashoughs Sayat Novy czy Jivaniego. Będzie to niczym tytułowy Zartir\, czyli przebudzenie z królewskiego snu. \nSzczegóły i bilety na stronach festiwalu: https://www.eufonie.pl/event/gurdjieff-ensemble-zartir-przebudzenie/
URL:https://wsercustolicy.pl/event/gurdjieff-ensemble-zartir-przebudzenie-festiwal-eufonie/
LOCATION:Kościół Wszystkich Świętych w Warszawie\, Plac Grzybowski 3/5\, Warszawa\, mazowieckie\, 00-115\, Poland
CATEGORIES:koncert
ATTACH;FMTTYPE=image/png:https://wsercustolicy.pl/wp-content/uploads/2024/10/eufonie-9_11.png
END:VEVENT
BEGIN:VEVENT
DTSTART;TZID=Europe/Warsaw:20241119T200000
DTEND;TZID=Europe/Warsaw:20241119T200000
DTSTAMP:20260423T182003
CREATED:20241001T095124Z
LAST-MODIFIED:20241001T095124Z
UID:1023-1732046400-1732046400@wsercustolicy.pl
SUMMARY:La Tempête: Nocturne | Festiwal Eufonie
DESCRIPTION:Od ciemności ku światłu. Przesiąknięte tysiącletnią tradycją prawosławną „Całonocne czuwanie” Sergiusza Rachmaninowa powstało w 1915 roku\, na tle zawirowań politycznych w kraju ojczystym kompozytora i początków I wojny światowej. Ideą spektaklu przygotowanego przez zespół La Tempete jest rekonstrukcja rytuału\, połączenie Całonocnego czuwania wraz z bizantyjskimi pieśniami\, przy jednoczesnym całkowitym wykorzystaniu przestrzeni przez śpiewaków\, tworząc transcendentalną podróż wśród dźwięków jednego z największych dzieł sztuki wokalnej. \nSzczegóły i bilety na stronach festiwalu: https://www.eufonie.pl/event/la-tempete-nocturn/
URL:https://wsercustolicy.pl/event/la-tempete-nocturne-festiwal-eufonie/
LOCATION:Kościół Wszystkich Świętych w Warszawie\, Plac Grzybowski 3/5\, Warszawa\, mazowieckie\, 00-115\, Poland
CATEGORIES:koncert
ATTACH;FMTTYPE=image/png:https://wsercustolicy.pl/wp-content/uploads/2024/10/eufonie-19_11.png
END:VEVENT
BEGIN:VEVENT
DTSTART;TZID=Europe/Warsaw:20241123T190000
DTEND;TZID=Europe/Warsaw:20241123T190000
DTSTAMP:20260423T182003
CREATED:20241001T095506Z
LAST-MODIFIED:20241129T112348Z
UID:1028-1732388400-1732388400@wsercustolicy.pl
SUMMARY:koncert Symfonia "Polonia" Ignacego Jana Paderewskiego | Warszawska Orkiestra Symfoniczna "SONATA" im. Bogumiła Łepeckiego
DESCRIPTION:Symfoniczny koncert jubileuszowy GLORIA POLONIKA – 1984-2024 – 40 lecia  Warszawskiej Orkiestry Symfonicznej „SONATA” im. Bogumiła Łepeckiego pod dyrekcją dr Kazimierza Dąbrowskiego.  \nW kościele w sercu stolicy zabrzmi Symfonia h-moll op.24 „Polonia” Ignacego Jana Paderewskiego \n23 listopada 2024\,\ngodz. 19:00\,\nKościół Wszystkich Świętych\nPlac Grzybowski 3/5 Warszawa \nZaproszenia na to wydarzenie będą do odebrania w kancelarii parafialnej.
URL:https://wsercustolicy.pl/event/symfonia-polonia-ignacego-jana-paderewskiego-warszawska-orkiestra-symfoniczna-sonata-im-boguslawa-lepkowskiego/
LOCATION:Kościół Wszystkich Świętych w Warszawie\, Plac Grzybowski 3/5\, Warszawa\, mazowieckie\, 00-115\, Poland
CATEGORIES:koncert
ATTACH;FMTTYPE=image/jpeg:https://wsercustolicy.pl/wp-content/uploads/2024/10/20241107_093519-scaled.jpg
END:VEVENT
BEGIN:VEVENT
DTSTART;TZID=Europe/Warsaw:20241124T193000
DTEND;TZID=Europe/Warsaw:20241124T193000
DTSTAMP:20260423T182003
CREATED:20241112T094913Z
LAST-MODIFIED:20241112T095055Z
UID:1116-1732476600-1732476600@wsercustolicy.pl
SUMMARY:koncert "Fiat Lux. Niech stanie się światłość" | Chór Mus Arietes
DESCRIPTION:🎼Koncert „Fiat Lux. Niech stanie się światłość” \n📆Kiedy?\nNiedziela 24 listopada 2024 r. godz. 19:30 \n⛪️ Gdzie?\nKościół pw. Wszystkich Świętych\nplac Grzybowski 3/5 Warszawa \n🎵 Wykonawcy\nChór Mus Arietes pod dyrekcją Aleksandry oraz Jakuba Siekierzyńskich \nKoncert odbywać się będzie w nawiązaniu do wspomnienia patronki\nmuzyki kościelnej – Św. Cecylii\, które w liturgii obchodzimy 22\nlistopada. \nChór Mus Arietes wykona zróżnicowany repertuar muzyki religijnej\npochodzący z rożnych epok i regionów świata. Zgromadzeni odbiorcy\nbędą mieli szansę usłyszeć dzieła skomponowane przez polskich i\nzagranicznych twórców epoki renesansu\, baroku\, postromantyzmu\, jak i\nkompozytorów współczesnych.\nPodczas wydarzenia zespół wykona także dwa dzieła muzyki\ncerkiewnej autorstwa Romualda Twardowskiego\, zmarłego w tym roku\nkompozytora. \nWażnym elementem repertuaru będą utwory młodych polskich\nkompozytorów\, m.in.: Michała Malca i Jakuba Szafrańskiego. \n🎶 PROGRAM:\n♦️ Wacław z Szamotuł – Kryste dniu naszej światłości\n♦️ Claudio Monteverdi – Cantate Domino\n♦️ Edward Bairstow – Let all mortal flesh keep silence\n♦️ Michał Malec – Missa brevis (Kyrie\, Sanctus\, Agnus Dei)\n♦️ Jakub Szafrański – Libera nos\, Domine\n♦️ Romuald Twardowski – Woskriesienije Christowo widiewsze\n♦️ Romuald Twardowski – Boże Wo Imia Twoje\n♦️ Craig Courtney – Let there be light\n♦️ Jakub Siekierzyński – Fiat lux (prawykonanie) \n🕰️ Koncert potrwa ok. 50 min. \n🎫 WSTĘP WOLNY”
URL:https://wsercustolicy.pl/event/koncert-fiat-lux-niech-stanie-sie-swiatlosc-chor-mus-arietes/
LOCATION:Kościół Wszystkich Świętych w Warszawie\, Plac Grzybowski 3/5\, Warszawa\, mazowieckie\, 00-115\, Poland
CATEGORIES:koncert
ATTACH;FMTTYPE=image/png:https://wsercustolicy.pl/wp-content/uploads/2024/11/fiat-lux-plakat-final.png
END:VEVENT
END:VCALENDAR