BEGIN:VCALENDAR
VERSION:2.0
PRODID:-//W Sercu Stolicy - ECPv6.2.8.1//NONSGML v1.0//EN
CALSCALE:GREGORIAN
METHOD:PUBLISH
X-ORIGINAL-URL:https://wsercustolicy.pl
X-WR-CALDESC:Events for W Sercu Stolicy
REFRESH-INTERVAL;VALUE=DURATION:PT1H
X-Robots-Tag:noindex
X-PUBLISHED-TTL:PT1H
BEGIN:VTIMEZONE
TZID:Europe/Warsaw
BEGIN:DAYLIGHT
TZOFFSETFROM:+0100
TZOFFSETTO:+0200
TZNAME:CEST
DTSTART:20250330T010000
END:DAYLIGHT
BEGIN:STANDARD
TZOFFSETFROM:+0200
TZOFFSETTO:+0100
TZNAME:CET
DTSTART:20251026T010000
END:STANDARD
END:VTIMEZONE
BEGIN:VEVENT
DTSTART;TZID=Europe/Warsaw:20250112T193000
DTEND;TZID=Europe/Warsaw:20250112T193000
DTSTAMP:20260423T132743
CREATED:20241217T135751Z
LAST-MODIFIED:20241223T114037Z
UID:1167-1736710200-1736710200@wsercustolicy.pl
SUMMARY:Bożonarodzeniowy koncert zespołu Jerycho | Igrzyska Kolęd i Pastorałek 2025
DESCRIPTION:Zapraszamy na bożonarodzeniowy koncert w wykonaniu zespołu Jerycho\, w ramach Igrzysk Kolęd i Pastorałek 2025. \nW programie:\nAch zła Ewa\, cóż zrobiła\nCyprian Bazylik: Pan Bóg wszechmogący królując od wieka Invitatorium: Christus natus est nobis\, ps. Venite adoremus motet: Unde gaudent – Eya\, eya – Nostra jocunda\nNa Boże Narodzenie – kolęda średniowieczna\nIn Natali Domini – z Kodeksu Speciálník\nAb archanis oritur – kolęda średniowieczna\nNuż my dziś krześcijani – z Kancjonałów Staniąteckich\nW Betlejem mieście\nPuer natus in Bethlehem\nO Józefie! Czego chcecie\nGore gwiazda Jezusowi w obłoku\nPasterze mili\, coście widzieli\nWesoła nowina\, Panna rodzi Syna\nGaudete Christus est natus – kolęda średniowieczna \nWystępują:\nPaweł Szczyciński\nMateusz Grzyb\nMaciej Królikowski\nWawrzyniec Dąbrowski\nTomasz Jarnicki\nŁukasz Kalisz\nStanisław Szczyciński\nBartosz Izbicki – lira korbowa\, fisharmonia\, chalumeau\, fidel\, portatyw \n12 stycznia 2025\, godz. 19:30\nKościół Wszystkich Świętych\, plac Grzybowski 3/5\, Warszawa\nWstęp wolny \n 
URL:https://wsercustolicy.pl/event/koncert-zespolu-jerycho/
LOCATION:Kościół Wszystkich Świętych w Warszawie\, Plac Grzybowski 3/5\, Warszawa\, mazowieckie\, 00-115\, Poland
CATEGORIES:koncert
ATTACH;FMTTYPE=image/jpeg:https://wsercustolicy.pl/wp-content/uploads/2024/12/Jerycho-koncert-bozonarodzeniowy.jpg
END:VEVENT
END:VCALENDAR