BEGIN:VCALENDAR
VERSION:2.0
PRODID:-//W Sercu Stolicy - ECPv6.2.8.1//NONSGML v1.0//EN
CALSCALE:GREGORIAN
METHOD:PUBLISH
X-WR-CALNAME:W Sercu Stolicy
X-ORIGINAL-URL:https://wsercustolicy.pl
X-WR-CALDESC:Events for W Sercu Stolicy
REFRESH-INTERVAL;VALUE=DURATION:PT1H
X-Robots-Tag:noindex
X-PUBLISHED-TTL:PT1H
BEGIN:VTIMEZONE
TZID:Europe/Warsaw
BEGIN:DAYLIGHT
TZOFFSETFROM:+0100
TZOFFSETTO:+0200
TZNAME:CEST
DTSTART:20250330T010000
END:DAYLIGHT
BEGIN:STANDARD
TZOFFSETFROM:+0200
TZOFFSETTO:+0100
TZNAME:CET
DTSTART:20251026T010000
END:STANDARD
END:VTIMEZONE
BEGIN:VEVENT
DTSTART;TZID=Europe/Warsaw:20250505T190000
DTEND;TZID=Europe/Warsaw:20250505T190000
DTSTAMP:20260420T023541
CREATED:20250505T093957Z
LAST-MODIFIED:20250505T093957Z
UID:1700-1746471600-1746471600@wsercustolicy.pl
SUMMARY:koncert Missa Papae Ioannis
DESCRIPTION:Zapraszamy na niezwykły koncert organizowany przez Włoski Instytut Kultury.  Zostanie wykonana Missa Papae Ioannis\, utwór rzymskiego kompozytora i pianisty Massimiliana Pace. Kompozycja\, stworzona na sopran\, fortepian\, cztery wiolonczele i poetycką narrację\, zostanie wykonana m. in. przez samego kompozytora\, który zagra na fortepianie.\n\n\n\nMissa Papae Ioannis została pierwotnie zamówiona z okazji dziesiątej rocznicy kanonizacji papieża Jana XXIII\, z zamiarem oddania hołdu jego niezwykłej spuściźnie duchowej i ludzkiej.\n\n\n5 maja 2025 – godz. 19:00\nKościół Wszystkich Świętych\, Plac Grzybowski 3/5\, Warszawa\nWstęp wolny!
URL:https://wsercustolicy.pl/event/koncert-missa-papae-ioannis/
LOCATION:Kościół Wszystkich Świętych w Warszawie\, Plac Grzybowski 3/5\, Warszawa\, mazowieckie\, 00-115\, Poland
CATEGORIES:koncert
ATTACH;FMTTYPE=image/jpeg:https://wsercustolicy.pl/wp-content/uploads/2025/05/Missa-Papae-Ioannis.jpg
END:VEVENT
END:VCALENDAR