BEGIN:VCALENDAR
VERSION:2.0
PRODID:-//W Sercu Stolicy - ECPv6.2.8.1//NONSGML v1.0//EN
CALSCALE:GREGORIAN
METHOD:PUBLISH
X-WR-CALNAME:W Sercu Stolicy
X-ORIGINAL-URL:https://wsercustolicy.pl
X-WR-CALDESC:Events for W Sercu Stolicy
REFRESH-INTERVAL;VALUE=DURATION:PT1H
X-Robots-Tag:noindex
X-PUBLISHED-TTL:PT1H
BEGIN:VTIMEZONE
TZID:Europe/Warsaw
BEGIN:DAYLIGHT
TZOFFSETFROM:+0100
TZOFFSETTO:+0200
TZNAME:CEST
DTSTART:20250330T010000
END:DAYLIGHT
BEGIN:STANDARD
TZOFFSETFROM:+0200
TZOFFSETTO:+0100
TZNAME:CET
DTSTART:20251026T010000
END:STANDARD
END:VTIMEZONE
BEGIN:VEVENT
DTSTART;VALUE=DATE:20250601
DTEND;VALUE=DATE:20250630
DTSTAMP:20260420T010212
CREATED:20250509T082909Z
LAST-MODIFIED:20250512T130418Z
UID:1750-1748736000-1751241599@wsercustolicy.pl
SUMMARY:II Międzynarodowy Festiwal Muzyki Organowej i Kameralnej w Kościele Wszystkich Świętych w Warszawie
DESCRIPTION:Rada i Zarząd Dzielnicy Śródmieście M.st. Warszawy oraz parafia Wszystkich Świętych w Warszawie zapraszają na II Międzynarodowy Festiwal Muzyki Organowej i Kameralnej w Kościele Wszystkich Świętych w Warszawie w dniach 1-29 czerwca 2025 roku. \nTERMINARZ: \n1.06.2025r – godz. 19:30 – Koncert kameralny\nOskar Rzążewski – saksofon\nGrzegorz Bigas – organy \n8.06.2025r – godz. 19:30 – Koncert kameralny\nKarol Augustyniak – organy\nJakub Siekierzyński – dyrygent Chór Centrum Myśli Jana Pawła II \n15.06.2025r – godz. 19:30 – Koncert organowy\nMarcin Knura – organy \n22.06.2025r – godz. 19:30 – Koncert kameralny\nJoanna Sobowiec-Jamioł – sopran\nBogusław Grabowski – organy \n29.06.2025r – godz. 19:30 – Koncert organowy\nRobert Maria Hogrebe – organy \nMIEJSCE:  \nKościół Wszystkich Świętych\, Plac Grzybowski 3/5\, Warszawa \nWSTĘP WOLNY
URL:https://wsercustolicy.pl/event/ii-miedzynarodowy-festiwal-muzyki-organowej-i-kameralnej-w-kosciele-wszystkich-swietych-w-warszawie/
LOCATION:Kościół Wszystkich Świętych w Warszawie\, Plac Grzybowski 3/5\, Warszawa\, mazowieckie\, 00-115\, Poland
CATEGORIES:koncert
ATTACH;FMTTYPE=image/jpeg:https://wsercustolicy.pl/wp-content/uploads/2025/05/II-Miedzynarodowy-Festiwal-Muzyki-Organowej-i-Kameralnej-w-Kosciele-Wszystkich-Swietych-w-Warszawie.jpg
END:VEVENT
END:VCALENDAR