BEGIN:VCALENDAR
VERSION:2.0
PRODID:-//W Sercu Stolicy - ECPv6.2.8.1//NONSGML v1.0//EN
CALSCALE:GREGORIAN
METHOD:PUBLISH
X-ORIGINAL-URL:https://wsercustolicy.pl
X-WR-CALDESC:Events for W Sercu Stolicy
REFRESH-INTERVAL;VALUE=DURATION:PT1H
X-Robots-Tag:noindex
X-PUBLISHED-TTL:PT1H
BEGIN:VTIMEZONE
TZID:Europe/Warsaw
BEGIN:DAYLIGHT
TZOFFSETFROM:+0100
TZOFFSETTO:+0200
TZNAME:CEST
DTSTART:20240331T010000
END:DAYLIGHT
BEGIN:STANDARD
TZOFFSETFROM:+0200
TZOFFSETTO:+0100
TZNAME:CET
DTSTART:20241027T010000
END:STANDARD
END:VTIMEZONE
BEGIN:VEVENT
DTSTART;TZID=Europe/Warsaw:20240130T190000
DTEND;TZID=Europe/Warsaw:20240130T190000
DTSTAMP:20260423T141133
CREATED:20240101T130828Z
LAST-MODIFIED:20240802T141249Z
UID:380-1706641200-1706641200@wsercustolicy.pl
SUMMARY:spotkanie formacyjne z cyklu Credo in Ecclesiam
DESCRIPTION:Trwa cykl comiesięcznych spotkań formacyjnych Credo in Ecclesiam\, w trakcie których zostaną wygłoszone konferencje dotyczące Kościoła\, do uczestnictwa w których serdecznie zapraszamy. \nWśród tematów m.in. biblijne obrazy Kościoła\, geneza Kościoła\, Kościół w myśli Benedykta XVI. Poruszone zostaną również kwestie znaczenia sztuki w Kościele\, jej wpływu na wiarę. Konferencje te wygłoszone zostaną przez wybitnych\, i znanych specjalistów w tych dziedzinach. \n30 stycznia zapraszamy na spotkanie z ks. prof. Markiem Starowieyskim pod tytułem „Kościół wojujący\, Kościół pielgrzymujący – o pielgrzymowaniu w czasach starożytnych”.  \nPoczątek o g. 19.00 w sali widowiskowej w podziemiach kościoła Wszystkich Świętych. \nPodczas spotkań będzie możliwość nabycia książek naszych Gości\, wraz z autografami oraz innych książek dotyczących Tradycji Kościoła w promocyjnych cenach (książka z autografem może być wartościowym prezentem pod choinkę). \nSpotkania poprzedzone będą śpiewem Litanii do Wszystkich Świętych bezpośrednio po zakończeniu Mszy Świętej w kościele i nowenny\, czyli około g. 18.40.
URL:https://wsercustolicy.pl/event/credo-in-ecclesiam/
LOCATION:Scena Stygmat – sala widowiskowa w podziemiach kościoła Wszystkich Świętych\, Plac Grzybowski 3/5\, Warszawa\, 00-115\, Poland
CATEGORIES:konferencja / wykład / katecheza / spotkanie
ATTACH;FMTTYPE=image/jpeg:https://wsercustolicy.pl/wp-content/uploads/2024/01/credo-in-ecclesiam-styczen-2024.jpg
END:VEVENT
END:VCALENDAR