BEGIN:VCALENDAR
VERSION:2.0
PRODID:-//W Sercu Stolicy - ECPv6.2.8.1//NONSGML v1.0//EN
CALSCALE:GREGORIAN
METHOD:PUBLISH
X-ORIGINAL-URL:https://wsercustolicy.pl
X-WR-CALDESC:Events for W Sercu Stolicy
REFRESH-INTERVAL;VALUE=DURATION:PT1H
X-Robots-Tag:noindex
X-PUBLISHED-TTL:PT1H
BEGIN:VTIMEZONE
TZID:Europe/Warsaw
BEGIN:DAYLIGHT
TZOFFSETFROM:+0100
TZOFFSETTO:+0200
TZNAME:CEST
DTSTART:20240331T010000
END:DAYLIGHT
BEGIN:STANDARD
TZOFFSETFROM:+0200
TZOFFSETTO:+0100
TZNAME:CET
DTSTART:20241027T010000
END:STANDARD
END:VTIMEZONE
BEGIN:VEVENT
DTSTART;TZID=Europe/Warsaw:20240522T190000
DTEND;TZID=Europe/Warsaw:20240522T190000
DTSTAMP:20260423T054841
CREATED:20240508T070837Z
LAST-MODIFIED:20240508T070945Z
UID:833-1716404400-1716404400@wsercustolicy.pl
SUMMARY:"Obrazy Kościoła w myśli Josepha Ratzingera / Benedykta XVI" - spotkanie formacyjne z cyklu Credo in Ecclesiam
DESCRIPTION:Trwa cykl comiesięcznych spotkań formacyjnych Credo in Ecclesiam\, w trakcie których wygłaszane są konferencje dotyczące Kościoła. Wśród tematów m.in. biblijne obrazy Kościoła\, geneza Kościoła\, Kościół w myśli Benedykta XVI. Poruszone zostaną również kwestie znaczenia sztuki w Kościele\, jej wpływu na wiarę. Konferencje te wygłoszone zostaną przez wybitnych i znanych specjalistów w tych dziedzinach. \n22 maja zapraszamy na spotkanie z Waldemarem Piotrowskim (nasz parafianin zaangażowany w życie Parafii) pod tytułem „Obrazy Kościoła w myśli Josepha Ratzingera / Benedykta XVI”.  \nPoczątek o godz. 19.00 w sali widowiskowej (Scena Stygmat) w podziemiach kościoła Wszystkich Świętych (wejścia do podziemi pod arkadami). \nPodczas spotkań będzie możliwość nabycia książek naszych Gości\, wraz z autografami oraz innych książek dotyczących Tradycji Kościoła w promocyjnych cenach. \nSpotkania poprzedzone będą śpiewem Litanii do Wszystkich Świętych bezpośrednio po zakończeniu Mszy Świętej w kościele i nowenny\, czyli około g. 18.40. \nORGANIZATORZY: Pielgrzymka Tradycji Łacińskiej\, Fundacja Gaudium
URL:https://wsercustolicy.pl/event/obrazy-kosciola-w-mysli-josepha-ratzingera-benedykta-xvi-spotkanie-formacyjne-z-cyklu-credo-in-ecclesiam/
LOCATION:Scena Stygmat – sala widowiskowa w podziemiach kościoła Wszystkich Świętych\, Plac Grzybowski 3/5\, Warszawa\, 00-115\, Poland
CATEGORIES:konferencja / wykład / katecheza / spotkanie
ATTACH;FMTTYPE=image/png:https://wsercustolicy.pl/wp-content/uploads/2023/11/credo.png
END:VEVENT
END:VCALENDAR