BEGIN:VCALENDAR
VERSION:2.0
PRODID:-//W Sercu Stolicy - ECPv6.2.8.1//NONSGML v1.0//EN
CALSCALE:GREGORIAN
METHOD:PUBLISH
X-ORIGINAL-URL:https://wsercustolicy.pl
X-WR-CALDESC:Events for W Sercu Stolicy
REFRESH-INTERVAL;VALUE=DURATION:PT1H
X-Robots-Tag:noindex
X-PUBLISHED-TTL:PT1H
BEGIN:VTIMEZONE
TZID:Europe/Warsaw
BEGIN:DAYLIGHT
TZOFFSETFROM:+0100
TZOFFSETTO:+0200
TZNAME:CEST
DTSTART:20240331T010000
END:DAYLIGHT
BEGIN:STANDARD
TZOFFSETFROM:+0200
TZOFFSETTO:+0100
TZNAME:CET
DTSTART:20241027T010000
END:STANDARD
END:VTIMEZONE
BEGIN:VEVENT
DTSTART;VALUE=DATE:20240609
DTEND;VALUE=DATE:20240610
DTSTAMP:20260423T054803
CREATED:20240528T175241Z
LAST-MODIFIED:20240802T142015Z
UID:837-1717891200-1717977599@wsercustolicy.pl
SUMMARY:katecheza - Sakramenty inicjacji | Po co dzisiaj sakramenty? | Wierzę. Myślę. Pytam.
DESCRIPTION:Zapraszamy na kolejne katechezy z cyklu „Wierzę Myślę Pytam” prowadzone przez księdza doktora Krzysztofa Mętlewicza. Czerwcowa seria nosi tytuł: „Po co dzisiaj sakramenty?”.  \n9 czerwca – Sakramenty inicjacji (chrzest\, bierzmowanie\, Eucharystia) \n16 czerwca – Sakramenty uzdrowienia (pokuty i pojednania\, namaszczenia chorych) \n23 czerwca – Sakramenty w służbie komunii (małżeństwo\, kapłaństwo) i sakramentalia \nniedziela / kościół górny / po mszach o 12:30 i 18:30. \n 
URL:https://wsercustolicy.pl/event/sakramenty-inicjacji-wierze-mysle-pytam/
LOCATION:Kościół Wszystkich Świętych w Warszawie\, Plac Grzybowski 3/5\, Warszawa\, mazowieckie\, 00-115\, Poland
CATEGORIES:konferencja / wykład / katecheza / spotkanie
ATTACH;FMTTYPE=image/jpeg:https://wsercustolicy.pl/wp-content/uploads/2024/05/wierze-mysle-pytam-PLAKAT.jpg
END:VEVENT
BEGIN:VEVENT
DTSTART;VALUE=DATE:20240616
DTEND;VALUE=DATE:20240617
DTSTAMP:20260423T054803
CREATED:20240528T175450Z
LAST-MODIFIED:20240802T142010Z
UID:840-1718496000-1718582399@wsercustolicy.pl
SUMMARY:katecheza - Sakramenty uzdrowienia | Po co dzisiaj sakramenty? | Wierzę. Myślę. Pytam.
DESCRIPTION:Zapraszamy na kolejne katechezy z cyklu „Wierzę Myślę Pytam” prowadzone przez księdza doktora Krzysztofa Mętlewicza. Czerwcowa seria nosi tytuł: „Po co dzisiaj sakramenty?”.  \n9 czerwca – Sakramenty inicjacji (chrzest\, bierzmowanie\, Eucharystia) \n16 czerwca – Sakramenty uzdrowienia (pokuty i pojednania\, namaszczenia chorych) \n23 czerwca – Sakramenty w służbie komunii (małżeństwo\, kapłaństwo) i sakramentalia \nniedziela / kościół górny / po mszach o 12:30 i 18:30. \n 
URL:https://wsercustolicy.pl/event/sakramenty-uzdrowienia-po-co-dzisiaj-sakramenty-wierze-mysle-pytam/
LOCATION:Kościół Wszystkich Świętych w Warszawie\, Plac Grzybowski 3/5\, Warszawa\, mazowieckie\, 00-115\, Poland
CATEGORIES:konferencja / wykład / katecheza / spotkanie
ATTACH;FMTTYPE=image/jpeg:https://wsercustolicy.pl/wp-content/uploads/2024/05/wierze-mysle-pytam-PLAKAT.jpg
END:VEVENT
BEGIN:VEVENT
DTSTART;TZID=Europe/Warsaw:20240618T180000
DTEND;TZID=Europe/Warsaw:20240618T180000
DTSTAMP:20260423T054803
CREATED:20240606T090801Z
LAST-MODIFIED:20240802T142255Z
UID:858-1718733600-1718733600@wsercustolicy.pl
SUMMARY:promocja książki ks. prof. Marka Starowieyskiego "Biblia Pisarzy"
DESCRIPTION:Zapraszamy na promocję książki ks. prof. Marka Starowieyskiego „Biblia Pisarzy” wydaną w dwóch tomach! \nWydarzenie już 18 czerwca 2024 w kościele w sercu stolicy. \nPROGRAM: \n\n18:00 – Msza Święta w intencji pisarzy a po mszy litania do Wszystkich Świętych – w kościele\n19:00 – Spotkanie z autorem – w sali widowiskowej (Scena Stygmat) w podziemiach kościoła\n\nPo spotkaniu będzie można nabyć książki prelegenta w atrakcyjnych cenach.
URL:https://wsercustolicy.pl/event/promocja-ksiazki-ks-prof-marka-starowieyskiego/
LOCATION:Scena Stygmat – sala widowiskowa w podziemiach kościoła Wszystkich Świętych\, Plac Grzybowski 3/5\, Warszawa\, 00-115\, Poland
CATEGORIES:konferencja / wykład / katecheza / spotkanie
ATTACH;FMTTYPE=image/jpeg:https://wsercustolicy.pl/wp-content/uploads/2024/06/1.jpg
END:VEVENT
BEGIN:VEVENT
DTSTART;TZID=Europe/Warsaw:20240625T190000
DTEND;TZID=Europe/Warsaw:20240625T190000
DTSTAMP:20260423T054803
CREATED:20240606T092413Z
LAST-MODIFIED:20240624T082928Z
UID:864-1719342000-1719342000@wsercustolicy.pl
SUMMARY:!~ ODWOŁANE ~! spotkanie formacyjne z cyklu Credo in Ecclesiam
DESCRIPTION:Trwa cykl comiesięcznych spotkań formacyjnych Credo in Ecclesiam\, w trakcie których wygłaszane są konferencje dotyczące Kościoła. Wśród tematów m.in. biblijne obrazy Kościoła\, geneza Kościoła\, Kościół w myśli Benedykta XVI. Poruszone zostaną również kwestie znaczenia sztuki w Kościele\, jej wpływu na wiarę. Konferencje te wygłoszone zostaną przez wybitnych i znanych specjalistów w tych dziedzinach. \n!! ODWOŁANE !!  25 czerwca zapraszamy na spotkanie z ks. Tadeuszem Sową. \nPoczątek o godz. 19.00 w sali widowiskowej (Scena Stygmat) w podziemiach kościoła Wszystkich Świętych (wejścia do podziemi pod arkadami). \nPodczas spotkań będzie możliwość nabycia książek naszych Gości\, wraz z autografami oraz innych książek dotyczących Tradycji Kościoła w promocyjnych cenach. \nSpotkania poprzedzone będą śpiewem Litanii do Wszystkich Świętych bezpośrednio po zakończeniu Mszy Świętej w kościele i nowenny\, czyli około g. 18.40. \nORGANIZATORZY: Pielgrzymka Tradycji Łacińskiej\, Fundacja Gaudium
URL:https://wsercustolicy.pl/event/spotkanie-formacyjne-z-cyklu-credo-in-ecclesiam/
LOCATION:Scena Stygmat – sala widowiskowa w podziemiach kościoła Wszystkich Świętych\, Plac Grzybowski 3/5\, Warszawa\, 00-115\, Poland
CATEGORIES:konferencja / wykład / katecheza / spotkanie
ATTACH;FMTTYPE=image/png:https://wsercustolicy.pl/wp-content/uploads/2023/11/credo.png
END:VEVENT
END:VCALENDAR