BEGIN:VCALENDAR
VERSION:2.0
PRODID:-//W Sercu Stolicy - ECPv6.2.8.1//NONSGML v1.0//EN
CALSCALE:GREGORIAN
METHOD:PUBLISH
X-WR-CALNAME:W Sercu Stolicy
X-ORIGINAL-URL:https://wsercustolicy.pl
X-WR-CALDESC:Events for W Sercu Stolicy
REFRESH-INTERVAL;VALUE=DURATION:PT1H
X-Robots-Tag:noindex
X-PUBLISHED-TTL:PT1H
BEGIN:VTIMEZONE
TZID:Europe/Warsaw
BEGIN:DAYLIGHT
TZOFFSETFROM:+0100
TZOFFSETTO:+0200
TZNAME:CEST
DTSTART:20240331T010000
END:DAYLIGHT
BEGIN:STANDARD
TZOFFSETFROM:+0200
TZOFFSETTO:+0100
TZNAME:CET
DTSTART:20241027T010000
END:STANDARD
END:VTIMEZONE
BEGIN:VEVENT
DTSTART;TZID=Europe/Warsaw:20241116T190000
DTEND;TZID=Europe/Warsaw:20241116T190000
DTSTAMP:20260422T161317
CREATED:20241104T092317Z
LAST-MODIFIED:20241104T092618Z
UID:1091-1731783600-1731783600@wsercustolicy.pl
SUMMARY:spotkanie wokół książki o Stanisławie Umińskiej | aktorka zabójczyni zakonnica
DESCRIPTION:Zapraszamy na spotkanie wokół historii Stanisławy Umińskiej – jednej z najbardziej utalentowanych aktorek swego pokolenia\, uznawanej za prawdziwą gwiazdę sceny\, która przeszła do historii nie tylko dzięki wspaniałym rolom teatralnym\, ale przede wszystkim przez dramatyczne wydarzenia\, na zawsze odmieniające jej los. \nWSTĘP WOLNY \nSpotkanie odbędzie się 16 listopada o godz. 19:00 na Scenie Stygmat (Plac Grzybowski 3/5\, Warszawa). \nLosy Stanisławy skomentują: autor książki Paweł Zuchniewicz\, prof. Barbara Osterloff-Gierak oraz prof. Jacek Salij. \nFragmenty książki „Miłość do śmierci. Opowieść o Stanisławie Umińskiej\, aktorce\, zabójczyni\, zakonnicy” przeczytają aktorzy Teatru Klasyki Polskiej.\n________________________\nStanisława Umińska przeżyła wielką\, lecz bolesną miłość do Jana Żyznowskiego\, która postawiła ją przed tragicznym wyborem. W paryskiej klinice doprowadził on do śmiertelnego strzału i procesu poruszającego francuską i polską opinię publiczną. „Kochałam go do szaleństwa i dla jego ocalenia gotowa byłam dać swą krew” – mówiła. Z czasem\, w głębokim poczuciu winy\, szukając odkupienia\, odnalazła sens w służbie potrzebującym jako siostra Benigna. \nTo poruszająca opowieść o wyborach i ich konsekwencjach\, miłości i wyrzeczeniu.\nPrzyjdźcie\, by wspólnie przyjrzeć się tej niezwykłej biografii\, która zmusza do pytań o granice odwagi i miłości. Podczas tego wieczoru razem zagłębimy się w losy kobiety\, która stała się symbolem najwyższego poświęcenia i odkupienia – czy był to akt miłości\, czy też nie dający się darować grzech? \nZapraszamy\, aby wspólnie poszukać odpowiedzi\, odkryć tę historię na nowo i zrozumieć\, co kryje się w tragicznej\, ale i pełnej nadziei drodze Stanisławy Umińskiej.
URL:https://wsercustolicy.pl/event/stanislawa-uminska/
LOCATION:Scena Stygmat – sala widowiskowa w podziemiach kościoła Wszystkich Świętych\, Plac Grzybowski 3/5\, Warszawa\, 00-115\, Poland
CATEGORIES:konferencja / wykład / katecheza / spotkanie
ATTACH;FMTTYPE=image/png:https://wsercustolicy.pl/wp-content/uploads/2024/11/aktorka.png
END:VEVENT
BEGIN:VEVENT
DTSTART;TZID=Europe/Warsaw:20241118T190000
DTEND;TZID=Europe/Warsaw:20241118T210000
DTSTAMP:20260422T161317
CREATED:20241112T102713Z
LAST-MODIFIED:20241112T103535Z
UID:1134-1731956400-1731963600@wsercustolicy.pl
SUMMARY:konferencja i debata "Przekroczyć próg... NADZIEI"
DESCRIPTION:Przekroczyć próg… NADZIEI 🫶 konferencja i debata \nFundacja Fides et Cultura zaprasza na wyjątkowe spotkanie\, które odbędzie się 18 listopada 2024 roku (poniedziałek) o godzinie 19:00 w podziemiach Kościoła Wszystkich Świętych w Warszawie (Scena Stygmat – sala widowiskowa w podziemiach\, pl. Grzybowski 3/5). ⛪️ \nW programie wydarzenia znajdą się krótkie wykłady i debata z udziałem wybitnych referentów:\n► Prof. dr hab. Jan Grosfeld – refleksja nad nadzieją we współczesnym świecie.\n► Ks. prałat dr Matteo Campagnaro – o dogmatycznej stronie nadziei w nauczaniu Kościoła.\n► Mgr sztuki Julia Kutra – spojrzenie na rolę nadziei w sztuce i jej znaczenie w twórczości artystycznej. \nSpotkanie składać się będzie z wykładów oraz panelu dyskusyjnego z możliwością zadawania pytań przez publiczność. \nCzas trwania całości: ok. 2 godziny. \nSzczegóły na: https://fidesetcultura.com/przekroczyc-prog-nadziei \nWstęp na wydarzenie jest darmowy\, jednak zachęcamy do wcześniejszej rejestracji przez wysłanie maila na info@fidesetcultura.com
URL:https://wsercustolicy.pl/event/przekroczyc-prog-nadziei-konferencja-i-debata/
LOCATION:Scena Stygmat – sala widowiskowa w podziemiach kościoła Wszystkich Świętych\, Plac Grzybowski 3/5\, Warszawa\, 00-115\, Poland
CATEGORIES:konferencja / wykład / katecheza / spotkanie
ATTACH;FMTTYPE=image/png:https://wsercustolicy.pl/wp-content/uploads/2024/11/przekroczyc-prog-nadziei.png
END:VEVENT
END:VCALENDAR