BEGIN:VCALENDAR
VERSION:2.0
PRODID:-//W Sercu Stolicy - ECPv6.2.8.1//NONSGML v1.0//EN
CALSCALE:GREGORIAN
METHOD:PUBLISH
X-WR-CALNAME:W Sercu Stolicy
X-ORIGINAL-URL:https://wsercustolicy.pl
X-WR-CALDESC:Events for W Sercu Stolicy
REFRESH-INTERVAL;VALUE=DURATION:PT1H
X-Robots-Tag:noindex
X-PUBLISHED-TTL:PT1H
BEGIN:VTIMEZONE
TZID:Europe/Warsaw
BEGIN:DAYLIGHT
TZOFFSETFROM:+0100
TZOFFSETTO:+0200
TZNAME:CEST
DTSTART:20240331T010000
END:DAYLIGHT
BEGIN:STANDARD
TZOFFSETFROM:+0200
TZOFFSETTO:+0100
TZNAME:CET
DTSTART:20241027T010000
END:STANDARD
END:VTIMEZONE
BEGIN:VEVENT
DTSTART;TZID=Europe/Warsaw:20240320T180000
DTEND;TZID=Europe/Warsaw:20240320T180000
DTSTAMP:20260423T141159
CREATED:20240304T220325Z
LAST-MODIFIED:20240312T104208Z
UID:717-1710957600-1710957600@wsercustolicy.pl
SUMMARY:Premiera książki „Rozmowy jerozolimskie. Dlaczego zginął Mesjasz” ks. prof. Waldemara Chrostowskiego i Pawła Lisickiego.
DESCRIPTION:Wydawnictwo książkowe Fronda serdecznie zaprasza na spotkanie z ks. prof. Waldemarem Chrostowskim oraz Pawłem Lisickim dotyczące ich najnowszej wspólnej książki pt. „Rozmowy jerozolimskie. Dlaczego zginął Mesjasz”. \n„Rozmowy jerozolimskie. Dlaczego zginął Mesjasz”\, to książka będąca pokłosiem wyprawy księdza profesora Waldemara Chrostowskiego i Pawła Lisickiego do Ziemi Świętej. Zadają ważne pytania\, które od zawsze poruszały chrześcijan. \nJak doszło do procesu Jezusa?\nDlaczego tak popularny początkowo nauczyciel z Galilei skończył ostatecznie na krzyżu?\nKim byli Jego sędziowie i oskarżyciele?\nDo jakich frakcji religijnych należeli i czym się one od siebie różniły?\nDlaczego doszło do procesu przed rzymskim prefektem?\nKim był Mesjasz dla ówczesnych Żydów?\nKim byli kapłani i jaką rolę odgrywali w świątyni jerozolimskiej? Jak to się stało\, że Mesjasz przyszedł do swego ludu\, a ten Go nie przyjął? \nPaweł Lisicki nakreśla w tych rozmowach tło historyczne\, polityczne i społeczne\, a jego rozmówca\, ksiądz profesor Chrostowski\, skupia się na wymiarze teologicznym i religijnym. \nTo rozmowy spokrewnionych ze sobą w duchu\, którzy wierzą\, że ziemia Izraela jest „piątą Ewangelią”\, że jej drzewa\, drogi\, jezioro\, domy\, zapachy\, zgiełk i cisza\, odsłaniają historię narodzin\, życia\, śmierci i chwalebnego Zmartwychwstania Jezusa z Nazaretu. \nSpotkanie autorskie poprowadzi Paweł Chmielewski\, redaktor PCh24.pl \nData i godzina spotkania: 20 marca (środa) 2024 r.\, godz. 18:00\nMiejsce spotkania: Scena Stygmat – sala widowiskowa w podziemiach Kościoła Wszystkich Świętych w Warszawie\nAdres: Plac Grzybowski 3/5 w Warszawie\nNa spotkanie wstęp wolny (bezpłatny i bez zapisu).
URL:https://wsercustolicy.pl/event/premiera-ksiazki-rozmowy-jerozolimskie-dlaczego-zginal-mesjasz-ks-prof-waldemara-chrostowskiego-i-pawla-lisickiego/
LOCATION:Scena Stygmat – sala widowiskowa w podziemiach kościoła Wszystkich Świętych\, Plac Grzybowski 3/5\, Warszawa\, 00-115\, Poland
CATEGORIES:konferencja / wykład / katecheza / spotkanie
ATTACH;FMTTYPE=image/jpeg:https://wsercustolicy.pl/wp-content/uploads/2024/03/Rozmowy-jerozolimskie-Dlaczego-zginal-Mesjasz.jpg
END:VEVENT
END:VCALENDAR