BEGIN:VCALENDAR
VERSION:2.0
PRODID:-//W Sercu Stolicy - ECPv6.2.8.1//NONSGML v1.0//EN
CALSCALE:GREGORIAN
METHOD:PUBLISH
X-ORIGINAL-URL:https://wsercustolicy.pl
X-WR-CALDESC:Events for W Sercu Stolicy
REFRESH-INTERVAL;VALUE=DURATION:PT1H
X-Robots-Tag:noindex
X-PUBLISHED-TTL:PT1H
BEGIN:VTIMEZONE
TZID:Europe/Warsaw
BEGIN:DAYLIGHT
TZOFFSETFROM:+0100
TZOFFSETTO:+0200
TZNAME:CEST
DTSTART:20240331T010000
END:DAYLIGHT
BEGIN:STANDARD
TZOFFSETFROM:+0200
TZOFFSETTO:+0100
TZNAME:CET
DTSTART:20241027T010000
END:STANDARD
END:VTIMEZONE
BEGIN:VEVENT
DTSTART;VALUE=DATE:20240322
DTEND;VALUE=DATE:20240324
DTSTAMP:20260423T122652
CREATED:20240317T213253Z
LAST-MODIFIED:20240317T213354Z
UID:740-1711065600-1711238399@wsercustolicy.pl
SUMMARY:„Czytanie Psalmów” - seminarium współczesnego odczytywania starotestamentowych Psalmów
DESCRIPTION:W poszukiwaniu świata utraconego. Na marginesach książki Bogusława Jasińskiego „Czytanie <Psalmów>”. \nW dniach 22 oraz 23 marca zapraszamy na dwudniowe seminarium poświęcone współczesnemu odczytaniu starotestamentowych „Psalmów”. Refleksje teoretyczne wzbogacone będą prezentacjami artystycznymi\, które również koncentrować się będą wokół odsłaniania świata duchowego. Obok zaproszonych filozofów i metafizyków\, gościć będziemy znakomitych artystów. \nMiejsce: Podziemia i Kościół Wszystkich Świętych Plac Grzybowski 3/5\, Warszawa\nCzas: 22-232 marca 2024 \n  \nProgram dnia pierwszego (piątek): 22 marzec 2024 \n16.00 powitanie gości i prowadzenie: Wojciech Dobrzyński/ Michał Czarnocki \n16.30 Słowo wprowadzające ks. dr Piotr Walendzik \n16.30 „Dlaczego Psalmy?” – wystąpienie Bogusława Jasińskiego \n17.00 „Czy wyrok skazujący Jezusa wydany przez Poncjusza Piłata nadal obowiązuje?” – mec. Radosław Pluciński/Bogusław Jasiński (Psalm 22) \n18.00 o. prof. Witold Kawecki CssR „Jak czytać psalmy dziś?” \n19.00 Psalm 94 – medytacja\, górny kościół\, recytacja Adam Woronowicz\, koncert organowy \n  \nProgram dnia drugiego (sobota): 23 marzec 2024 \n12.00 wernisaż i otwarcie wystaw:\nJózef Żuk Piwkowski\nRyszard Ługowski\nBogusław Jasiński (pokaz filmów)\nsale w podziemiach\nsłowo wprowadzające: Bogusław Jasińskiego \n15.00 wystąpienia panelistów:\n„Teatr Psalmów – spektakl niemożliwy” – reżyser Jacek Zembrzuski \n15.30 przerwa kawowa \n16.00 „Pojęcie <odpłaty nadmiarowej> w Starym Testamencie a pojęcie lichwy ” – dwugłos; Krzysztof Lewandowski/Bogusław Jasiński\n16.30 Wiedza i tożsamość – Wojciech Dobrzyński \n17.00 Cywilizacyjny detoks – Michał Czarnocki \n17.30 Podsumowania i wnioski – jw. + Bogusław Jasiński \n18.00 koncert: „Osobiście\, czyli w pełnym słońcu”\nPaulina Sylwestrowicz – instrumenty klawiszowe\nRyszard Ługowski – misy tybetańskie\, gongi\nTomasz Hołuj – instrumenty perkusyjne\nBogusław Jasiński – inkantacja psalmowa
URL:https://wsercustolicy.pl/event/czytanie-seminarium-wspolczesnego-odczytywania-starotestamentowych-psalmow/
LOCATION:Scena Stygmat – sala widowiskowa w podziemiach kościoła Wszystkich Świętych\, Plac Grzybowski 3/5\, Warszawa\, 00-115\, Poland
CATEGORIES:konferencja / wykład / katecheza / spotkanie
ATTACH;FMTTYPE=image/png:https://wsercustolicy.pl/wp-content/uploads/2024/03/czytanie-psalmow.png
END:VEVENT
END:VCALENDAR