BEGIN:VCALENDAR
VERSION:2.0
PRODID:-//W Sercu Stolicy - ECPv6.2.8.1//NONSGML v1.0//EN
CALSCALE:GREGORIAN
METHOD:PUBLISH
X-WR-CALNAME:W Sercu Stolicy
X-ORIGINAL-URL:https://wsercustolicy.pl
X-WR-CALDESC:Events for W Sercu Stolicy
REFRESH-INTERVAL;VALUE=DURATION:PT1H
X-Robots-Tag:noindex
X-PUBLISHED-TTL:PT1H
BEGIN:VTIMEZONE
TZID:Europe/Warsaw
BEGIN:DAYLIGHT
TZOFFSETFROM:+0100
TZOFFSETTO:+0200
TZNAME:CEST
DTSTART:20240331T010000
END:DAYLIGHT
BEGIN:STANDARD
TZOFFSETFROM:+0200
TZOFFSETTO:+0100
TZNAME:CET
DTSTART:20241027T010000
END:STANDARD
END:VTIMEZONE
BEGIN:VEVENT
DTSTART;VALUE=DATE:20241026
DTEND;VALUE=DATE:20241027
DTSTAMP:20260422T225718
CREATED:20240929T200235Z
LAST-MODIFIED:20240929T200438Z
UID:982-1729900800-1729987199@wsercustolicy.pl
SUMMARY:konferencja dla mam „Mama – powołanie i zadanie”
DESCRIPTION:3 konferencje i 3 różne spojrzenia na macierzyństwo\, z których możesz zaczerpnąć inspirację dla siebie.  A w międzyczasie dużo kobiecych spotkań przy gorącej kawie. Na koniec prawdziwa uczta dla duszy – wspólna Eucharystia i uwielbienie w towarzystwie pięknego śpiewu i muzyki. \n>>> Szczegóły i bilety znajdziesz tutaj – kliknij \nProgram konferencji: \n8:30 – rejestracja uczestniczek\n9:30 – rozpoczęcie i błogosławieństwo ks. Mateusza Rutkowskiego\n10:00 – „Czuła żona – czuła mama. Jak to zrobić?” – Marlena Paliwoda\n12:00 – przerwa kawowa\n12:30 – „Mama – po pierwsze kobieta” – Emilia Cichecka\n14:30 – obiad\n15:30 – „Spełniona mama każdego dnia” – Iga Grzybowska\n17:30 – przerwa kawowa\n18:00 – Eucharystia\n19:00 – uwielbienie z Martą Ławską oraz wspólna modlitwa\n20:00 – zakończenie
URL:https://wsercustolicy.pl/event/konferencja-dla-mam-mama-powolanie-i-zadanie/
LOCATION:Scena Stygmat – sala widowiskowa w podziemiach kościoła Wszystkich Świętych\, Plac Grzybowski 3/5\, Warszawa\, 00-115\, Poland
CATEGORIES:konferencja / wykład / katecheza / spotkanie
ATTACH;FMTTYPE=image/jpeg:https://wsercustolicy.pl/wp-content/uploads/2024/09/IMG_0032.jpeg
END:VEVENT
END:VCALENDAR