BEGIN:VCALENDAR
VERSION:2.0
PRODID:-//W Sercu Stolicy - ECPv6.2.8.1//NONSGML v1.0//EN
CALSCALE:GREGORIAN
METHOD:PUBLISH
X-WR-CALNAME:W Sercu Stolicy
X-ORIGINAL-URL:https://wsercustolicy.pl
X-WR-CALDESC:Events for W Sercu Stolicy
REFRESH-INTERVAL;VALUE=DURATION:PT1H
X-Robots-Tag:noindex
X-PUBLISHED-TTL:PT1H
BEGIN:VTIMEZONE
TZID:Europe/Warsaw
BEGIN:DAYLIGHT
TZOFFSETFROM:+0100
TZOFFSETTO:+0200
TZNAME:CEST
DTSTART:20250330T010000
END:DAYLIGHT
BEGIN:STANDARD
TZOFFSETFROM:+0200
TZOFFSETTO:+0100
TZNAME:CET
DTSTART:20251026T010000
END:STANDARD
END:VTIMEZONE
BEGIN:VEVENT
DTSTART;TZID=Europe/Warsaw:20250208T100000
DTEND;TZID=Europe/Warsaw:20250208T120000
DTSTAMP:20260420T052228
CREATED:20250122T223004Z
LAST-MODIFIED:20250211T115724Z
UID:1305-1739008800-1739016000@wsercustolicy.pl
SUMMARY:Uważność w małżeństwie - jak budować czuły dom w codzienności (warsztat dla małżeństw) [ZAPISY]
DESCRIPTION:Pragniecie tworzyć czuły\, bezpieczny i dobry dom? Marzysz o domu i małżeństwie\, które dają Ci siłę do wszystkich przeciwności\, jakie możesz napotkać?  \nMarlena i Łukasz Paliwodowie poprowadzą warsztat dla małżonków\, w którym dowiecie się jak poprzez małe codzienne wybory i nawyki tworzyć właśnie taki dom i takie małżeństwo. Otrzymacie wszystkie potrzebne materiały\, upominki i narzędzia do dalszej pracy. W trakcie warsztatu będą ćwiczenia dla małżeństwa\, ale także oddzielne dla męża i żony.  \n\n08 lutego 2025 – sobota – godz. 10:00-12:00 – Scena Stygmat – sala widowiskowa w podziemiach kościoła Wszystkich Świętych\, Plac Grzybowski 3/5\, Warszawa \nObowiązują zapisy\, liczba miejsc ograniczona \nWarsztat skierowany dla małżeństwa (2 osoby) – obligatoryjnie dla męża i żony. \nZAPISY: Kliknijcie TUTAJ i zapiszcie się (tylko\, gdy jesteście pewni\, że będziecie) \n*Skończyły się miejsca? Zapisz się na listę rezerwową – kliknij tutaj. \nOrganizator: Wspólnota Młodych Małżeństw i Fundacja Gaudium \nWarsztat poprowadzą: Marlena i Łukasz Paliwodowie • Fundacja „Czuły Dom” \n\nMarlena i Łukasz Paliwodowie – Szczęśliwi małżonkowie i rodzice czwórki dzieci. Prowadzą razem Fundację „Czuły Dom”\, której szczególnym charyzmatem jest formowanie żon i mężów osobno. W ofercie fundacji są warsztaty online lub stacjonarne dla żon „Jaką żoną jestem?”\, „Twórcza żona”\, stacjonarne rekolekcje „Błogosławiony Mąż” dla mężów\, warsztaty online dla rodziców (raz w miesiącu w określonym temacie). Kwartalnie organizują także konferencję „Rodzinne Espresso” na Mazurach. Poza tym Marlena i Łukasz prowadzą rekolekcje i warsztaty w różnych miejscach Polski dla małżonków. Marlena jest także logoterapeutą\, prowadzi terapię indywidualną opartą na zadbaniu o ciało\, psychikę i duchowość. Łukasz zaś na co dzień jest przedsiębiorcą.  \nhttps://www.instagram.com/czulydom/ \nhttps://www.facebook.com/czulydom \n\nNie macie z kim zostawić swoich pociech? Żadne problem! Zadbaliśmy i oto! \nW salce obok do dyspozycji będą opiekunowie pełni kreatywnych pomysłów na zabawy – zarówno dla maluszków jak i nieco starszych dzieci. Małżeństwa chętne do skorzystania z opieki dla dzieci proszeni są o zgłoszenie tego w formularzu rejestracyjnym byśmy mogli przygotować zajęcia dostosowane do wieku. Bardzo prosimy by dzieci miały ze sobą przekąskę i picie. Zapraszamy 15 minut przed rozpoczęciem warsztatu. LICZBA MIEJSC OGRANICZONA! \n<< Przejdź do formularza i przeczytaj uważnie jego treść >>  \nWaszymi pociechami zaopiekują się animatorzy i wolontariusze z Fundacji Bogata Chata.  \nFundacja Bogata Chata – Rodzinna fundacja zainicjowana w 2021 roku przez Anię Szczerbik i jej córki Agatę i Gosię\, których głównym celem jest szeroko pojęte wspieranie dzieci i dorosłych z lokalnej społeczności Warszawy i okolic. W fundacji odbywają się między innymi: kreatywne rodzinne warsztaty\, grupy edukacyjne dla dzieci\, warsztaty umiejętności rodzicielskich oraz warsztaty dla nastolatków. Wszelkie inicjatywy mają na celu wzmocnienie relacji w podstawowej komórce społeczeństwa\, jaką jest rodzina. Bogata Chata daje przestrzeń\, w której panuje atmosfera wzajemnego szacunku\, wsparcia i rozwoju. \nwww.fundacjabogatachata.com
URL:https://wsercustolicy.pl/event/uwaznosc-w-malzenstwie-jak-budowac-czuly-dom-w-codziennosci-warsztat-dla-malzenstw/
LOCATION:Scena Stygmat – sala widowiskowa w podziemiach kościoła Wszystkich Świętych\, Plac Grzybowski 3/5\, Warszawa\, 00-115\, Poland
CATEGORIES:konferencja / wykład / katecheza / spotkanie,Tydzień Małżeństwa W Sercu Stolicy w Warszawie
ATTACH;FMTTYPE=image/png:https://wsercustolicy.pl/wp-content/uploads/2025/01/TydzMalz2025-2.png
END:VEVENT
END:VCALENDAR