BEGIN:VCALENDAR
VERSION:2.0
PRODID:-//W Sercu Stolicy - ECPv6.2.8.1//NONSGML v1.0//EN
CALSCALE:GREGORIAN
METHOD:PUBLISH
X-WR-CALNAME:W Sercu Stolicy
X-ORIGINAL-URL:https://wsercustolicy.pl
X-WR-CALDESC:Events for W Sercu Stolicy
REFRESH-INTERVAL;VALUE=DURATION:PT1H
X-Robots-Tag:noindex
X-PUBLISHED-TTL:PT1H
BEGIN:VTIMEZONE
TZID:Europe/Warsaw
BEGIN:DAYLIGHT
TZOFFSETFROM:+0100
TZOFFSETTO:+0200
TZNAME:CEST
DTSTART:20250330T010000
END:DAYLIGHT
BEGIN:STANDARD
TZOFFSETFROM:+0200
TZOFFSETTO:+0100
TZNAME:CET
DTSTART:20251026T010000
END:STANDARD
END:VTIMEZONE
BEGIN:VEVENT
DTSTART;TZID=Europe/Warsaw:20250326T190000
DTEND;TZID=Europe/Warsaw:20250326T190000
DTSTAMP:20260420T033011
CREATED:20250324T083642Z
LAST-MODIFIED:20250324T083746Z
UID:1668-1743015600-1743015600@wsercustolicy.pl
SUMMARY:spotkanie „Prześladowani chrześcijanie” | spotkanie z reporterem wojennym | Michał Bruszewski
DESCRIPTION:Co dzieje się na Bliskim Wschodzie? Jak wyglądają prześladowania chrześcijan na świecie? Jak pisać i mówić o wojnie będąc katolikiem? Jak wygląda wojna? Jak pomagać na wojnie? – na te\, oraz inne pytania odpowie Michał Bruszewski – reporter wojenny.  \nRelacjonował wojną obronną Ukrainy w 2022 roku i 2024 roku. Autor reportaży z Libanu\, Ziemi Świętej\, Iraku i wschodniej Ukrainy. Był pod Mosulem w 2016 roku\, w Awdijiwce w 2018 roku oraz pod Kijowem\, Charkowem i w Donbasie w latach 2022-2024. Autor reportaży o pomocy humanitarnej Kościoła Katolickiego we wschodniej Ukrainie w 2018 roku oraz Iraku w 2016 roku. Wolontariusz humanitarnych organizacji pozarządowych. Relacjonował kryzys na granicy polsko-białoruskiej w latach 2021-2024. Reżyser filmów dokumentalnych: „Wojna dronów – reportaż z Donbasu”\, „Murem za polskim mundurem – reportaż z granicy”\, oraz „Nadciąga wielka woda – reportaż z powodzi”. Autor książki „Kronika Prześladowanych”\, współautor „Wojna rosyjsko-ukraińska. Pierwsza faza”\, „Nie patrz martwym w oczy”\, „Wielka wojna Izraela”. \nTERMIN \n\n26 marca 2025 (środa) – godz. 19:00 – Scena Stygmat – sala widowiskowa w podziemiach kościoła Wszystkich Świętych\, Plac Grzybowski 3/5\, Warszawa\n\nWstęp wolny\, bez rezerwacji! \nDołącz do wydarzenia na Facebooku – kliknij tutaj
URL:https://wsercustolicy.pl/event/spotkanie-przesladowani-chrzescijanie-spotkanie-z-reporterem-wojennym-michal-bruszewski/
LOCATION:Scena Stygmat – sala widowiskowa w podziemiach kościoła Wszystkich Świętych\, Plac Grzybowski 3/5\, Warszawa\, 00-115\, Poland
CATEGORIES:konferencja / wykład / katecheza / spotkanie
ATTACH;FMTTYPE=image/jpeg:https://wsercustolicy.pl/wp-content/uploads/2025/03/przesladowani-chrzescijanie.jpg
END:VEVENT
END:VCALENDAR