BEGIN:VCALENDAR
VERSION:2.0
PRODID:-//W Sercu Stolicy - ECPv6.2.8.1//NONSGML v1.0//EN
CALSCALE:GREGORIAN
METHOD:PUBLISH
X-WR-CALNAME:W Sercu Stolicy
X-ORIGINAL-URL:https://wsercustolicy.pl
X-WR-CALDESC:Events for W Sercu Stolicy
REFRESH-INTERVAL;VALUE=DURATION:PT1H
X-Robots-Tag:noindex
X-PUBLISHED-TTL:PT1H
BEGIN:VTIMEZONE
TZID:Europe/Warsaw
BEGIN:DAYLIGHT
TZOFFSETFROM:+0100
TZOFFSETTO:+0200
TZNAME:CEST
DTSTART:20250330T010000
END:DAYLIGHT
BEGIN:STANDARD
TZOFFSETFROM:+0200
TZOFFSETTO:+0100
TZNAME:CET
DTSTART:20251026T010000
END:STANDARD
END:VTIMEZONE
BEGIN:VEVENT
DTSTART;TZID=Europe/Warsaw:20250327T184500
DTEND;TZID=Europe/Warsaw:20250327T184500
DTSTAMP:20260420T033008
CREATED:20250319T125547Z
LAST-MODIFIED:20250319T125629Z
UID:1656-1743101100-1743101100@wsercustolicy.pl
SUMMARY:spotkanie literackie „Z Panem Jezusem przez Wielki Post do Odkupienia” | ks Witold Kawecki
DESCRIPTION:We czwartek 27 marca 2025\, o godzinie 18.45\, na Scenie Stygmat w podziemiach kościoła Wszystkich Świętych w Warszawie\, odbędzie się spotkanie literackie zatytułowane: Z Panem Jezusem przez Wielki Post do Odkupienia. \nPoprowadzi je Ksiądz Witold KAWECKI\, profesor nauk teologicznych i wybitny medioznawca\, wykładowca z Uniwersytetu im. Kardynała Stefana Wyszyńskiego\, autor znakomitych publikacji ukazujących Prawdę Ewangelii wyrażoną w sztuce (m.in. Chrześcijaństwo a kultura\, 2006; Ewangelia w obrazach\, 2012; Tajemnice Caravaggia\, 2019) oraz niezwykłych książek poświęconych Włochom (Toskania\, jakiej nie znacie\, 2021; Rzym moje miasto\, 2022; Podróże po Włoszech\, 2024). \nSpotkanie będzie wielkopostnym rozważaniem wokół najnowszej książki Księdza Profesora zatytułowanej Jezus. Tajemnica odkupienia (Jedność\, 2024)\, którą można będzie nabyć\, wraz z dedykacją. \nWstęp wolny!
URL:https://wsercustolicy.pl/event/spotkanie-literackie-z-panem-jezusem-przez-wielki-post-do-odkupienia-ks-witold-kawecki/
LOCATION:Scena Stygmat – sala widowiskowa w podziemiach kościoła Wszystkich Świętych\, Plac Grzybowski 3/5\, Warszawa\, 00-115\, Poland
CATEGORIES:konferencja / wykład / katecheza / spotkanie
ATTACH;FMTTYPE=image/jpeg:https://wsercustolicy.pl/wp-content/uploads/2025/03/Jezus-Tajemnica-odkupienia.jpg
END:VEVENT
END:VCALENDAR