BEGIN:VCALENDAR
VERSION:2.0
PRODID:-//W Sercu Stolicy - ECPv6.2.8.1//NONSGML v1.0//EN
CALSCALE:GREGORIAN
METHOD:PUBLISH
X-WR-CALNAME:W Sercu Stolicy
X-ORIGINAL-URL:https://wsercustolicy.pl
X-WR-CALDESC:Events for W Sercu Stolicy
REFRESH-INTERVAL;VALUE=DURATION:PT1H
X-Robots-Tag:noindex
X-PUBLISHED-TTL:PT1H
BEGIN:VTIMEZONE
TZID:Europe/Warsaw
BEGIN:DAYLIGHT
TZOFFSETFROM:+0100
TZOFFSETTO:+0200
TZNAME:CEST
DTSTART:20250330T010000
END:DAYLIGHT
BEGIN:STANDARD
TZOFFSETFROM:+0200
TZOFFSETTO:+0100
TZNAME:CET
DTSTART:20251026T010000
END:STANDARD
END:VTIMEZONE
BEGIN:VEVENT
DTSTART;TZID=Europe/Warsaw:20250207T070000
DTEND;TZID=Europe/Warsaw:20250216T193000
DTSTAMP:20260422T110028
CREATED:20250122T223053Z
LAST-MODIFIED:20250211T115731Z
UID:1298-1738911600-1739734200@wsercustolicy.pl
SUMMARY:Modlitwa za małżeństwa i rodziny przez wstawiennictwo bł. rodziny Ulmów (indywidualna modlitwa przy relikwiach)
DESCRIPTION:Zatrzymaj(cie) się i spójrzcie na wyjątkowe małżeństwo\, na niesamowitą rodzinę – inspirujcie się. Błogowiawieni Ulmowie z Markowej – Józef i Wiktora oraz Stanisława\, Barbara\, Władysław\, Franciszek\, Antoni\, Maria i dziecko nienarodzone spoglądają także na Was\, jakby z rodzinnej fotografii umieszczonej w relikwiarzu. To kochająca się rodzina\, wierząca\, zaangażowana\, wspierająca się\, rozwijająca swoje hobby\, dbająca o siebie nawzajem ale także o innych ludzi i otaczający świat.  \nNiech będą Waszymi orędownikami\, niech wstawiają się u Boga za Twoim małżeństwem i Twoją rodziną. Przyjdź(cie)\, pomódl(cie) się w ciszy i proś(cie) o ich wsparcie.  \nPrzed relikwiarzem umieszczona została specjalna modlitwa za małżeństwa i rodziny na czas Tygodnia Małżeństwa w Warszawie. Weźcie ją także ze sobą\, wraz z wizerunkiem błogosławionych. \n\nMożliwość prywatnej modlitwy w dniach 07 – 16 lutego 2025: \nod poniedziałku do soboty w godz. 7:00-18:30\,\nw niedzielę w godz. 6:30-19:30 \nw kościele Wszystkich Świętych\, Plac Grzybowski 3/5 w Warszawie\,\nprzy ołtarzu bocznym\, w transepcie zachodnim (prawym) – tak zwany “Zakątek Miłosierdzia i Rodziny”. \n\nRelikwie bł. rodziny Ulmów zostały uroczyście wprowadzone do kościoła Wszystkich Świętych podczas ubiegłorocznej edycji Tygodnia Małżeństwa w Warszawie\, W Sercu Stolicy. Znajdują się w transepcie zachodnim (prawym) w tak zwanym “zakątku miłosierdzia i rodziny”\, tuż obok obrazu Jezusa Miłosiernego i Jezusa błogosławiącego dzieci\, przy kaplicy adoracji. \nO relikwiarzu przeczytacie w artykule samego artysty „Tryptyk rodziny Ulmów – świadectwo heroizmu”: https://wszyscyswieci.pl/numer-30-wrzesien-2024/  \nO przestrzeni transeptu przeczytacie w artykule „Transept Zachodni”: https://wszyscyswieci.pl/numer-28-marzec-2024/ \nOrganizator: Wspólnota Młodych Małżeństw\, Fundacja Gaudium
URL:https://wsercustolicy.pl/event/modlitwa-za-malzenstwa-i-rodziny-przez-wstawiennictwo-bl-rodziny-ulmow-indywidualna-modlitwa-przy-relikwiach/
LOCATION:Kościół Wszystkich Świętych w Warszawie\, Plac Grzybowski 3/5\, Warszawa\, mazowieckie\, 00-115\, Poland
CATEGORIES:modlitwa / medytacja,Tydzień Małżeństwa W Sercu Stolicy w Warszawie
ATTACH;FMTTYPE=image/png:https://wsercustolicy.pl/wp-content/uploads/2025/01/TydzMalz2025-1.png
END:VEVENT
BEGIN:VEVENT
DTSTART;VALUE=DATE:20250209
DTEND;VALUE=DATE:20250210
DTSTAMP:20260422T110028
CREATED:20250122T223030Z
LAST-MODIFIED:20250211T115706Z
UID:1321-1739059200-1739145599@wsercustolicy.pl
SUMMARY:Uroczyste odnowienie przyrzeczeń małżeńskich (Światowy Dzień Małżeństwa)
DESCRIPTION:Pamiętasz jak to było\, gdy szliście ze sobą do ołtarza? Roześmiane albo zapłakane oczy\, drżący głos\, stres\, euforia\, lęk\, przejęcie\, ekscytacja? Radość z wesela czy skupienie na mszy świętej? Może było najpiękniej\, a może wcale nie tak\, jak sobie marzyliście?  \nNiezależnie od tego\, jesteście małżeństwem\, a łaska sakramentu towarzyszy Wam każdego dnia. Każdego dnia Wasze małżeństwo może zacząć na nowo – szczególnie wtedy\, gdy łaskę przykrył kurz zapomnienia. 9 lutego\, w Światowy Dzień Małżeństwa\, podczas mszy świętych o 11:00\, 12:30 i 18:30 odbędzie się odnowienie przyrzeczeń małżeńskich – przyjdźcie na nie z wiarą i miłością. Podziękujcie za to\, co było i poproście o to\, czego Wam brakuje. \n\n09 lutego 2025 – Światowy Dzień Małżeństwa – niedziela –  na mszach świętych o godz. 11:00\, 12:30 i 18:30 – kościół Wszystkich Świętych\, Plac Grzybowski 3/5\, Warszawa \nWstęp wolny \nOrganizator: Wspólnota Młodych Małżeństw\, Fundacja Gaudium \n\nKAWIARENKA Z KĄCIKIEM DLA DZIECI \nPo Mszy Świętej o godzinie 11:00 i 12:30  zapraszamy całe rodziny do naszej kawiarenki w podziemiach\, gdzie na najmłodszych czekać będzie animator zabaw (w godzinach 12:00- 14:30). Zachęcamy Małżonków do chwili rozmowy we dwoje przy kawie\, herbacie i słodkościach\, podczas gdy Wasze pociechy pochłonięte będą eksplorowaniem kącika dla dzieci pod okiem animatorów.  \nWaszymi pociechami zaopiekują się animatorzy i wolontariusze z Fundacji Bogata Chata.  \nFundacja Bogata Chata – Rodzinna fundacja zainicjowana w 2021 roku przez Anię Szczerbik i jej córki Agatę i Gosię\, których głównym celem jest szeroko pojęte wspieranie dzieci i dorosłych z lokalnej społeczności Warszawy i okolic. W fundacji odbywają się między innymi: kreatywne rodzinne warsztaty\, grupy edukacyjne dla dzieci\, warsztaty umiejętności rodzicielskich oraz warsztaty dla nastolatków. Wszelkie inicjatywy mają na celu wzmocnienie relacji w podstawowej komórce społeczeństwa\, jaką jest rodzina. Bogata Chata daje przestrzeń\, w której panuje atmosfera wzajemnego szacunku\, wsparcia i rozwoju. \nwww.fundacjabogatachata.com
URL:https://wsercustolicy.pl/event/uroczyste-odnowienie-przyrzeczen-malzenskich-swiatowy-dzien-malzenstwa/
LOCATION:Kościół Wszystkich Świętych w Warszawie\, Plac Grzybowski 3/5\, Warszawa\, mazowieckie\, 00-115\, Poland
CATEGORIES:modlitwa / medytacja,Tydzień Małżeństwa W Sercu Stolicy w Warszawie
ATTACH;FMTTYPE=image/png:https://wsercustolicy.pl/wp-content/uploads/2025/01/TydzMalz2025-4.png
END:VEVENT
BEGIN:VEVENT
DTSTART;TZID=Europe/Warsaw:20250216T133000
DTEND;TZID=Europe/Warsaw:20250216T153000
DTSTAMP:20260422T110028
CREATED:20250122T223003Z
LAST-MODIFIED:20250211T115628Z
UID:1389-1739712600-1739719800@wsercustolicy.pl
SUMMARY:Uważni na Boga - adoracja\, uwielbienie\, modlitwa wstawiennicza (małżeńskie uwielbienie)
DESCRIPTION:Jeśli Pan domu nie zbuduje\, Próżno trudzą się ci\, którzy go budują. Niech Tydzień Małżeństwa zakończy spotkanie z Bogiem podczas adoracji i modlitwy uwielbienia. To Bóg jest Tym\, którego zapraszamy do naszego małżeństwa z chwilą stanięcia przed ołtarzem. On jest tym\, który ukochał\, jako pierwszy\, i od którego możemy uczyć się miłości. Wreszcie On jest celem wszystkiego. Nie zapominajmy\, by zwracać się do Niego z każdą sprawą i uwielbiać Go w naszych rodzinach. \nMałżeństwa będą mogły skorzystać z indywidualnej modlitwy wstawienniczej – to modlitwa\, która ma upraszać potrzebne łaski i umacniać Waszą więź. \n\n16 lutego 2025 – niedziela – godz. 13:30 – kościół Wszystkich Świętych\, Plac Grzybowski 3/5\, Warszawa \nWstęp wolny \nOrganizator: Wspólnota Młodych Małżeństw\, Fundacja Gaudium\n \nWydarzenie poprowadzą: CUDO.twórcy (Irmina i Marcin Śliwińscy) i wspólnota Bet Lehem \n\nIrmina i Marcin Śliwińscy (CUDO.twórcy) — ewangelizujące małżeństwo z show – biznesu! Oboje pracują w mediach i oboje po drugiej stronie kamery. Irmina jest reżyserką telewizyjną\, reklamową i eventową\, a Marcin jest producentem\, montażystą i specjalistą od efektów specjalnych. Równolegle jeżdżą po Polsce i po świecie głosząc Ewangelię. Są organizatorami i twórcami projektu „ChwałaMU”. Jako CUDO.twórcy prowadzą kanał na YouTube gdzie rozmawiają o sztuce twórczego życia z Bogiem. Irmina i Marcin są również magistrami teologii i liderami warszawskiej wspólnoty Bet Lehem. \nhttps://www.cudotworcy.pl/ \nhttps://www.instagram.com/cudo.tworcy/ \nhttps://www.facebook.com/cudo.tworcy1 \nBet Lehem – katolicka wspólnota uwielbienia działająca przy parafii św. Antoniego w Warszawie\, opiekunem jest o. Lech Dorobczyński. \nhttps://www.facebook.com/wspolnotabetlehem \nhttps://www.instagram.com/betlehem.warszawa/
URL:https://wsercustolicy.pl/event/uwazni-na-boga-adoracja-uwielbienie-modlitwa-wstawiennicza-malzenskie-uwielbienie/
LOCATION:Kościół Wszystkich Świętych w Warszawie\, Plac Grzybowski 3/5\, Warszawa\, mazowieckie\, 00-115\, Poland
CATEGORIES:modlitwa / medytacja,Tydzień Małżeństwa W Sercu Stolicy w Warszawie
ATTACH;FMTTYPE=image/png:https://wsercustolicy.pl/wp-content/uploads/2025/01/TydzMalz2025-9.png
END:VEVENT
END:VCALENDAR