BEGIN:VCALENDAR
VERSION:2.0
PRODID:-//W Sercu Stolicy - ECPv6.2.8.1//NONSGML v1.0//EN
CALSCALE:GREGORIAN
METHOD:PUBLISH
X-WR-CALNAME:W Sercu Stolicy
X-ORIGINAL-URL:https://wsercustolicy.pl
X-WR-CALDESC:Events for W Sercu Stolicy
REFRESH-INTERVAL;VALUE=DURATION:PT1H
X-Robots-Tag:noindex
X-PUBLISHED-TTL:PT1H
BEGIN:VTIMEZONE
TZID:Europe/Warsaw
BEGIN:DAYLIGHT
TZOFFSETFROM:+0100
TZOFFSETTO:+0200
TZNAME:CEST
DTSTART:20250330T010000
END:DAYLIGHT
BEGIN:STANDARD
TZOFFSETFROM:+0200
TZOFFSETTO:+0100
TZNAME:CET
DTSTART:20251026T010000
END:STANDARD
END:VTIMEZONE
BEGIN:VEVENT
DTSTART;TZID=Europe/Warsaw:20250321T190000
DTEND;TZID=Europe/Warsaw:20250321T190000
DTSTAMP:20260422T110529
CREATED:20250306T120509Z
LAST-MODIFIED:20250306T120535Z
UID:1632-1742583600-1742583600@wsercustolicy.pl
SUMMARY:Via Crucis | Droga Krzyżowa - według objawienia bł. Anny Katarzyny Emmerich
DESCRIPTION:Via Crucis (Droga Krzyżowa) – gorzka śmierć i męka Pana naszego Jezusa Chrystusa według objawienia bł. Anny Katarzyny Emmerich. \nRecytacje – Jarosław Gajewski | Teatr Klasyki Polskiej \nŚpiew – Ensemble Jerycho \nImprowizacje organowe – Adam Tański \n  \nTERMIN \n\n21 marca 2025 (piątek) – godz. 19:00 – Kościół Wszystkich Świętych w Warszawie\, Plac Grzybowski 3/5\n\nWstęp bezpłatny
URL:https://wsercustolicy.pl/event/via-crucis-droga-krzyzowa-wedlug-objawienia-bl-anny-katarzyny-emmerich/
LOCATION:Kościół Wszystkich Świętych w Warszawie\, Plac Grzybowski 3/5\, Warszawa\, mazowieckie\, 00-115\, Poland
CATEGORIES:modlitwa / medytacja
ATTACH;FMTTYPE=image/jpeg:https://wsercustolicy.pl/wp-content/uploads/2025/03/Via-Crucis-scaled.jpg
END:VEVENT
END:VCALENDAR