BEGIN:VCALENDAR
VERSION:2.0
PRODID:-//W Sercu Stolicy - ECPv6.2.8.1//NONSGML v1.0//EN
CALSCALE:GREGORIAN
METHOD:PUBLISH
X-WR-CALNAME:W Sercu Stolicy
X-ORIGINAL-URL:https://wsercustolicy.pl
X-WR-CALDESC:Events for W Sercu Stolicy
REFRESH-INTERVAL;VALUE=DURATION:PT1H
X-Robots-Tag:noindex
X-PUBLISHED-TTL:PT1H
BEGIN:VTIMEZONE
TZID:Europe/Warsaw
BEGIN:DAYLIGHT
TZOFFSETFROM:+0100
TZOFFSETTO:+0200
TZNAME:CEST
DTSTART:20250330T010000
END:DAYLIGHT
BEGIN:STANDARD
TZOFFSETFROM:+0200
TZOFFSETTO:+0100
TZNAME:CET
DTSTART:20251026T010000
END:STANDARD
END:VTIMEZONE
BEGIN:VEVENT
DTSTART;TZID=Europe/Warsaw:20250401T180000
DTEND;TZID=Europe/Warsaw:20250401T180000
DTSTAMP:20260420T052727
CREATED:20250329T202230Z
LAST-MODIFIED:20250329T202230Z
UID:1684-1743530400-1743530400@wsercustolicy.pl
SUMMARY:Uroczystość z okazji 85 rocznicy zbrodni katyńskiej oraz spotkanie literacko-historyczne
DESCRIPTION:Zapraszamy na uroczystość z okazji 85 rocznicy zbrodni katyńskiej w dniu 1 kwietnia 2025 roku\, o godz. 18.00\, w Kościele p.w. Wszystkich Świętych\, w Warszawie przy Placu Grzybowskim 3/5. \nUroczystość rozpocznie Msza Święta w intencji wszystkich ofiar zbrodni katyńskiej oraz w intencji poety i oficera Wojska Polskiego II R. P. Władysława Sebyły. Po Mszy Świętej zapraszamy na uroczyste Spotkanie Literacko – Historyczne\, pt. „Władysław Sebyła w Cieniu Katynia”\, w podziemiach kościoła na Scenie Stygmat. \nPROGRAM:\n1. Godzina 18.00: uroczysta Msza Święta pod Przewodnictwem Jego Ekscelencji Ks. prof. dr hab. Biskupa Michała Janochy Biskupa Pomocniczego Metropolii Warszawskiej – w intencji wszystkich ofiar zbrodni katyńskiej\, a w tym poety i ppor. Wojska Polskiego II Rzeczypospolitej Polskiej Władysława Sebyły. \nPo Mszy Świętej Spotkanie Literacko – Historyczne\, pt. „Władysław Sebyła w Cieniu Katynia”\, na Scenie Stygmat w podziemiach kościoła: \n2. Godzina 18.50: Otwarcie Spotkania i Powitanie Uczestników: Ksiądz Proboszcz dr Piotr Waleńdzik Parafii p.w. Wszystkich Świętych. \n3. Wystąpienie: Pana Prezesa Zarządu Władysława Ryszarda Szeląga Towarzystwa Historycznego im. Szembeków. \n4. Wystąpienie: Pana Prezesa Zarządu Marka Krystyniaka Stowarzyszenia Rodziny Katyńskiej w Warszawie. \n5. Projekcja filmu: pt. „Epitafia Katyńskie” (prod.”Media Kontakt”; 5 min.)\, na temat poety Władysława Sebyły. \n6. Projekcja filmu: pt. „Saga Sebyłowie” (prod.TVP; 20 min.). \n7. Referat na temat poety Władysława Sebyły: pisarza Pana Prezesa Zarządu Zbigniewa Zbikowskiego Oddziału Warszawskiego Stowarzyszenia Pisarzy Polskich. \n8. Prezentacja wybranych wierszy poety Władysława Sebyły. \n9. Zakończenie Spotkania Literacko – Historycznego: Słowo Pana Prezesa Zarządu Władysława Ryszarda Szeląga Towarzystwa Historycznego im. Szembeków.
URL:https://wsercustolicy.pl/event/uroczystosc-z-okazji-85-rocznicy-zbrodni-katynskiej-oraz-spotkanie-literacko-historyczne/
LOCATION:Kościół Wszystkich Świętych w Warszawie\, Plac Grzybowski 3/5\, Warszawa\, mazowieckie\, 00-115\, Poland
CATEGORIES:konferencja / wykład / katecheza / spotkanie,modlitwa / medytacja
ATTACH;FMTTYPE=image/jpeg:https://wsercustolicy.pl/wp-content/uploads/2025/02/IMG20250208184252-scaled.jpg
END:VEVENT
END:VCALENDAR