BEGIN:VCALENDAR
VERSION:2.0
PRODID:-//W Sercu Stolicy - ECPv6.2.8.1//NONSGML v1.0//EN
CALSCALE:GREGORIAN
METHOD:PUBLISH
X-ORIGINAL-URL:https://wsercustolicy.pl
X-WR-CALDESC:Events for W Sercu Stolicy
REFRESH-INTERVAL;VALUE=DURATION:PT1H
X-Robots-Tag:noindex
X-PUBLISHED-TTL:PT1H
BEGIN:VTIMEZONE
TZID:Europe/Warsaw
BEGIN:DAYLIGHT
TZOFFSETFROM:+0100
TZOFFSETTO:+0200
TZNAME:CEST
DTSTART:20250330T010000
END:DAYLIGHT
BEGIN:STANDARD
TZOFFSETFROM:+0200
TZOFFSETTO:+0100
TZNAME:CET
DTSTART:20251026T010000
END:STANDARD
END:VTIMEZONE
BEGIN:VEVENT
DTSTART;TZID=Europe/Warsaw:20250402T180000
DTEND;TZID=Europe/Warsaw:20250402T180000
DTSTAMP:20260420T052645
CREATED:20250329T210503Z
LAST-MODIFIED:20250329T210503Z
UID:1689-1743616800-1743616800@wsercustolicy.pl
SUMMARY:Dwudziesta rocznica śmierci Jana Pawła II - msza święta i wieczór poetycki
DESCRIPTION:W najbliższą środę\, 2 kwietnia przypada dwudziesta rocznica śmierci św. Jana Pawła II. Z tej okazji zapraszamy na mszę o godz. 18:00 a po niej na wieczór z tekstami Jana Pawła II z udziałem aktorów i organisty Adama Tańskiego. \nPrzypominamy\, że w każdy wtorek po mszy o godz. 18 odbywa się w naszej parafii nowenna za jego wstawiennictwem.
URL:https://wsercustolicy.pl/event/dwudziesta-rocznica-smierci-jana-pawla-ii-msza-swieta-i-wieczor-poetycki/
LOCATION:Kościół Wszystkich Świętych w Warszawie\, Plac Grzybowski 3/5\, Warszawa\, mazowieckie\, 00-115\, Poland
CATEGORIES:konferencja / wykład / katecheza / spotkanie,modlitwa / medytacja
ATTACH;FMTTYPE=image/jpeg:https://wsercustolicy.pl/wp-content/uploads/2025/02/IMG20250208184841-scaled.jpg
END:VEVENT
END:VCALENDAR