BEGIN:VCALENDAR
VERSION:2.0
PRODID:-//W Sercu Stolicy - ECPv6.2.8.1//NONSGML v1.0//EN
CALSCALE:GREGORIAN
METHOD:PUBLISH
X-ORIGINAL-URL:https://wsercustolicy.pl
X-WR-CALDESC:Events for W Sercu Stolicy
REFRESH-INTERVAL;VALUE=DURATION:PT1H
X-Robots-Tag:noindex
X-PUBLISHED-TTL:PT1H
BEGIN:VTIMEZONE
TZID:Europe/Warsaw
BEGIN:DAYLIGHT
TZOFFSETFROM:+0100
TZOFFSETTO:+0200
TZNAME:CEST
DTSTART:20250330T010000
END:DAYLIGHT
BEGIN:STANDARD
TZOFFSETFROM:+0200
TZOFFSETTO:+0100
TZNAME:CET
DTSTART:20251026T010000
END:STANDARD
END:VTIMEZONE
BEGIN:VEVENT
DTSTART;VALUE=DATE:20250403
DTEND;VALUE=DATE:20250404
DTSTAMP:20260420T052643
CREATED:20250329T212310Z
LAST-MODIFIED:20250329T212310Z
UID:1691-1743638400-1743724799@wsercustolicy.pl
SUMMARY:Wielkopostny Kościół Stacyjny 2025
DESCRIPTION:W czwartek\, 3 kwietnia 2025\, nasza świątynia będzie WIELKOPOSTNYM KOŚCIOŁEM STACYJNYM dla Warszawy 💜\n\n\n \n\n\n🗓 PROGRAM:\n\n\n– Msze Święte o godz. 7:00\, 8:00\, 9:00\, 17:00\, 18:00*\n\n\n– Adoracja Najświętszego Sakramentu od godz. 9:30 do 17:00\n\n\n– Spowiedź 7:00-9:00 oraz 16:00-18.30\n\n\n– Koronka do Miłosierdzia Bożego o godz. 15:00\n\n\n– Nabożeństwo Gorzkich Żali o godz. 20:00 zakończone Apelem Jasnogórskim. \n\n\n \n\n\n*🙏 Uroczystą mszę świętą o godz. 18:00 będzie celebrował nasz nowy ordynariusz\, abp Adrian Galbas.
URL:https://wsercustolicy.pl/event/wielkopostny-kosciol-stacyjny-2025/
LOCATION:Kościół Wszystkich Świętych w Warszawie\, Plac Grzybowski 3/5\, Warszawa\, mazowieckie\, 00-115\, Poland
CATEGORIES:modlitwa / medytacja
ATTACH;FMTTYPE=image/jpeg:https://wsercustolicy.pl/wp-content/uploads/2025/03/kosciol-stacyjny.jpg
END:VEVENT
END:VCALENDAR