BEGIN:VCALENDAR
VERSION:2.0
PRODID:-//W Sercu Stolicy - ECPv6.2.8.1//NONSGML v1.0//EN
CALSCALE:GREGORIAN
METHOD:PUBLISH
X-ORIGINAL-URL:https://wsercustolicy.pl
X-WR-CALDESC:Events for W Sercu Stolicy
REFRESH-INTERVAL;VALUE=DURATION:PT1H
X-Robots-Tag:noindex
X-PUBLISHED-TTL:PT1H
BEGIN:VTIMEZONE
TZID:Europe/Warsaw
BEGIN:DAYLIGHT
TZOFFSETFROM:+0100
TZOFFSETTO:+0200
TZNAME:CEST
DTSTART:20240331T010000
END:DAYLIGHT
BEGIN:STANDARD
TZOFFSETFROM:+0200
TZOFFSETTO:+0100
TZNAME:CET
DTSTART:20241027T010000
END:STANDARD
END:VTIMEZONE
BEGIN:VEVENT
DTSTART;TZID=Europe/Warsaw:20240930T130000
DTEND;TZID=Europe/Warsaw:20240930T130000
DTSTAMP:20260423T102100
CREATED:20240923T105546Z
LAST-MODIFIED:20240930T083340Z
UID:979-1727701200-1727701200@wsercustolicy.pl
SUMMARY:premiera filmu "Ratuję człowieka. Ludzie Kościoła wobec Zagłady"
DESCRIPTION:Film „Ratuję człowieka. Ludzie Kościoła wobec Zagłady” pokazuje Polaków\, którzy mimo niebezpieczeństwa śmierci ratowali Żydów.  \nPremiera filmu odbędzie się w znaczącym miejscu – w podziemiach kościoła Wszystkich Świętych na Placu Grzybowskim w Warszawie. W czasie wojny kościół ten znalazł się na terenie getta\, a proboszczem był wtedy ks. Marceli Godlewski\, jeden z bohaterów filmu\, Sprawiedliwy wśród narodów Świata. \nTERMIN: 30 września 2024 (poniedziałek) – godz. 13:00 – Scena Stygmat – podziemia kościoła Wszystkich Świętych na Placu Grzybowskim 3/5 w Warszawie. \nOBEJRZYJ ZWIASTUN: https://youtu.be/1KaG0o7vef0?feature=shared \nFilm zostanie pokazany widzom telewizji EWTN na całym świecie. \nProjekt był możliwy do przeprowadzenia dzięki mecenatowi różnych instytucji publicznych\, wśród których dominowały firmy energetyczne\, co posłużyło do powstania nazwy projektu „Polska energia zmienia świat”. \nProducentem wykonawczym wszystkich filmów jest Towarzystwo Projektów Edukacyjnych\, a reżyserem Michał Szymanowicz. \nWięcej w zakładce: https://opoka.org.pl/Polska-energia-Ratuje-czlowieka
URL:https://wsercustolicy.pl/event/premiera-filmu-ratuje-czlowieka-ludzie-kosciola-wobec-zaglady/
LOCATION:Scena Stygmat – sala widowiskowa w podziemiach kościoła Wszystkich Świętych\, Plac Grzybowski 3/5\, Warszawa\, 00-115\, Poland
CATEGORIES:pokaz filmowy
ATTACH;FMTTYPE=image/jpeg:https://wsercustolicy.pl/wp-content/uploads/2024/09/IMG_0033.jpeg
END:VEVENT
END:VCALENDAR