BEGIN:VCALENDAR
VERSION:2.0
PRODID:-//W Sercu Stolicy - ECPv6.2.8.1//NONSGML v1.0//EN
CALSCALE:GREGORIAN
METHOD:PUBLISH
X-WR-CALNAME:W Sercu Stolicy
X-ORIGINAL-URL:https://wsercustolicy.pl
X-WR-CALDESC:Events for W Sercu Stolicy
REFRESH-INTERVAL;VALUE=DURATION:PT1H
X-Robots-Tag:noindex
X-PUBLISHED-TTL:PT1H
BEGIN:VTIMEZONE
TZID:Europe/Warsaw
BEGIN:DAYLIGHT
TZOFFSETFROM:+0100
TZOFFSETTO:+0200
TZNAME:CEST
DTSTART:20250330T010000
END:DAYLIGHT
BEGIN:STANDARD
TZOFFSETFROM:+0200
TZOFFSETTO:+0100
TZNAME:CET
DTSTART:20251026T010000
END:STANDARD
END:VTIMEZONE
BEGIN:VEVENT
DTSTART;TZID=Europe/Warsaw:20250926T180000
DTEND;TZID=Europe/Warsaw:20250926T180000
DTSTAMP:20260420T042705
CREATED:20250902T063459Z
LAST-MODIFIED:20250902T063519Z
UID:1918-1758909600-1758909600@wsercustolicy.pl
SUMMARY:[pokaz filmowy] Patrzę na Ciebie - pierwszy przegląd filmów Marii "Majki" Dłużewskiej
DESCRIPTION:Zapraszamy na wyjątkowe wydarzenie kulturalne – pierwszy przegląd filmów dokumentalnych Marii „Majki” Dłużewskiej\, zorganizowany w dzień Jej 74. urodzin.  \nWydarzenie zostało zorganizowane przez grupę przyjaciół artystki\, którym zależy na tym\, by Jej słowa o filmie jako wspólnym dziele stały się rzeczywistością również po Jej śmierci. Ważne jest\, by dorobek zbyt wcześnie zmarłej dokumentalistki pozostał żywy i nadal docierał do serc kolejnych pokoleń widzów. \n\n26 września 2025\, początek godz. 18:00 \nScena Stygmat – sala widowiskowa w podziemiach kościoła Wszystkich Świętych\, Warszawa\, Plac Grzybowski 3/5 \n\nMaria Dłużewska\, aktorka teatralna\, opozycjonistka z czasów PRL-u i wrażliwa kronikarka najważniejszych momentów polskiej historii\, zasługuje na to\, by jej filmy były nadal oglądane\, analizowane i omawiane. \n“Majka” zawsze podkreślała\, że kino dokumentalne „nie istnieje bez ludzi” i że każdy film to efekt pracy zespołowej. Dlatego właśnie 26 września 2025 roku\, w dzień jej 74. urodzin\, w warszawskim kościele Wszystkich Świętych przy placu Grzybowskim odbędzie się pierwszy przegląd filmów dokumentalnych tej wybitnej polskiej reżyserki. \nProgram przeglądu:\nPrzegląd składa się z dwóch części filmowych rozdzielonych panelem dyskusyjnym. Widzowie zobaczą dokumenty „Dzielnieśmy stali\, celnie rzucali” oraz „Zorza II nad Gdańskiem„. Między projekcjami odbędzie się panel\, podczas którego goście będą mogli podzielić się wspomnieniami o Majce i porozmawiać o znaczeniu jej twórczości dla polskiego kina dokumentalnego. \nO Marii „Majce” Dłużewskiej\nMaria Dłużewska (1951-2024) przeszła niezwykłą drogę – od aktorki teatralnej\, przez działaczkę opozycyjną w czasach PRL-u\, po uznaną reżyserkę filmów dokumentalnych. Absolwentka warszawskiej PWST\, działaczka „Solidarności” i „Solidarności Walczącej”\, w latach 90. odkryła w sobie dokumentalistkę. \nSzczególne miejsce w jej dorobku zajmują filmy poświęcone katastrofie smoleńskiej: „Mgła”\, „Pogarda” (wspólnie z Joanną Lichocką)\, „Córka”\, „Testament” i „Dama”. Za swoją twórczość została uhonorowana Krzyżem Oficerskim Orderu Odrodzenia Polski (2008)\, Krzyżem Wolności i Solidarności (2017) oraz Nagrodą Mediów Publicznych (2022). \nZaproszenie\nOrganizatorzy zapraszają wszystkich\, którym bliska jest twórczość Marii Dłużewskiej\, którzy cenią polskie kino dokumentalne i którym zależy na zachowaniu pamięci o ludziach i wydarzeniach\, które kształtowały naszą najnowszą historię. \nTen pierwszy przegląd ma być początkiem cyklu upamiętniającego twórczość dokumentalistki\, która była nie tylko artystką\, ale także wrażliwą kronikarką najważniejszych momentów polskiej historii. Bo jak sama mówiła – kino dokumentalne istnieje dla ludzi i dzięki ludziom.
URL:https://wsercustolicy.pl/event/pokaz-filmowy-patrze-na-ciebie-pierwszy-przeglad-filmow-marii-majki-dluzewskiej/
LOCATION:Scena Stygmat – sala widowiskowa w podziemiach kościoła Wszystkich Świętych\, Plac Grzybowski 3/5\, Warszawa\, 00-115\, Poland
CATEGORIES:pokaz filmowy
ATTACH;FMTTYPE=image/jpeg:https://wsercustolicy.pl/wp-content/uploads/2025/09/Patrze-na-ciebie-przeglad-filmow-Marii-Dluzewskiej.jpg
END:VEVENT
END:VCALENDAR