BEGIN:VCALENDAR
VERSION:2.0
PRODID:-//W Sercu Stolicy - ECPv6.2.8.1//NONSGML v1.0//EN
CALSCALE:GREGORIAN
METHOD:PUBLISH
X-WR-CALNAME:W Sercu Stolicy
X-ORIGINAL-URL:https://wsercustolicy.pl
X-WR-CALDESC:Events for W Sercu Stolicy
REFRESH-INTERVAL;VALUE=DURATION:PT1H
X-Robots-Tag:noindex
X-PUBLISHED-TTL:PT1H
BEGIN:VTIMEZONE
TZID:Europe/Warsaw
BEGIN:DAYLIGHT
TZOFFSETFROM:+0100
TZOFFSETTO:+0200
TZNAME:CEST
DTSTART:20240331T010000
END:DAYLIGHT
BEGIN:STANDARD
TZOFFSETFROM:+0200
TZOFFSETTO:+0100
TZNAME:CET
DTSTART:20241027T010000
END:STANDARD
END:VTIMEZONE
BEGIN:VEVENT
DTSTART;VALUE=DATE:20240207
DTEND;VALUE=DATE:20240214
DTSTAMP:20260423T094622
CREATED:20231210T205409Z
LAST-MODIFIED:20240111T203250Z
UID:218-1707264000-1707868799@wsercustolicy.pl
SUMMARY:Tydzień Małżeństwa W Sercu Stolicy
DESCRIPTION:Wydawałoby się\, że podstawowa komórka społeczna\, jaką jest rodzina nie potrzebuje promocji\, jest naturalna w cyklu życia człowieka. A jednak\, małżeństwa\, czyli fundament każdej rodziny\, w dzisiejszych czasach są w odwrocie. Liczba zawieranych związków sakramentalnych i cywilnych spada a ilość rozwodów rośnie. Stwarza to możliwości dla różnych inicjatyw\, które mają przypomnieć małżonkom\, że stały związek ma sens i wspierać ich w obranej drodze wspólnego życia. \nPapież Jan Paweł II\, przez cały pontyfikat\, zwracał uwagę na wyjątkową relację kobiety i mężczyzny. Dlatego w 1993 roku ustanowił Światowy Dzień Małżeństwa na drugą niedzielę lutego. Cztery lata później\, w Wielkiej Brytanii\, Richard Kane zorganizował pierwszy “małżeński tydzień”\, który rozwinął się w Międzynarodowy Tydzień Małżeństwa obchodzony w dniach 7-14 lutego. W Polsce\, projekt zainicjował oddział gdański Stowarzyszenia Psychologów Chrześcijańskich w 2015 roku. \nKościół Wszystkich Świętych na warszawskim Placu Grzybowskim leży w sercu stolicy. Jako jedyny jest skomunikowany przez obie linie metra – przystanek Świętokrzyska. Terytorialnie parafia obejmuje także PKiN oraz Warszawę Śródmieście i Dworzec Centralny. Właśnie w murach tego kościoła\, papież Jan Paweł II odprawił mszę świętą otwierając kongres eucharystyczny w 1987 roku. Dziś dbamy o pielęgnowanie jego nauk oraz korzystamy z dziedzictwa myśli\, słowa i czynu\, które zostawił. \nZaplanowaliśmy dla Was cały tydzień wydarzeń. Zapraszamy na modlitewne czuwanie\, warsztaty\, konferencje\, kulturalne randki i panel dyskusyjny\, a także na odnowienie przyrzeczeń małżeńskich. Naszymi gośćmi i prelegentami będą małżeństwa i eksperci\, którzy podzielą się wiedzą i doświadczeniem.  \nSzczegółowy program oraz zapisy na stronie Tydzień Małżeństwa w Warszawie\, w sercu stolicy
URL:https://wsercustolicy.pl/event/tydzien-malzenstwa-w-sercu-stolicy/
LOCATION:Kościół Wszystkich Świętych w Warszawie\, Plac Grzybowski 3/5\, Warszawa\, mazowieckie\, 00-115\, Poland
CATEGORIES:Tydzień Małżeństwa W Sercu Stolicy w Warszawie
ATTACH;FMTTYPE=image/png:https://wsercustolicy.pl/wp-content/uploads/2023/12/TydzMalzWsercuStolicy-POST_FB.png
END:VEVENT
BEGIN:VEVENT
DTSTART;TZID=Europe/Warsaw:20240210T100000
DTEND;TZID=Europe/Warsaw:20240210T133000
DTSTAMP:20260423T094622
CREATED:20240111T202014Z
LAST-MODIFIED:20240122T083312Z
UID:337-1707559200-1707571800@wsercustolicy.pl
SUMMARY:Małżeństwo w XXI wieku. Rola. Szanse. Wyzwania. (konferencja)
DESCRIPTION:XXI wiek stawia przed nami nowe wyzwania. Polska prężnie rozwija się po latach komunizmu a ludzie skupili się na dobrobycie i konsumpcji. Żyjemy w erze indywidualizmu\, rozwoju osobistego i zawodowego ale także konkubinatów i związków partnerskich. Zawiera się coraz mniej małżeństw a liczba rozwodów rośnie. Jak w dzisiejszym świecie zadbać o relacje? Jakie wyzwania stoją przed małżonkami? Jaka powinna być ich rola i czy mają wpływ na społeczeństwo? Nasi goście podzielą się swoim doświadczeniem i wspólnie odpowiedzą na pytania o sens małżeństwa w XXI wieku. Chcemy\, by uczestnicy wyszli z tego spotkania umocnieni i zmotywowani do tego\, aby zadbać o swoje małżeństwo. \n>> ZAREJESTRUJ SIĘ*<< \nKonferencja o małżeństwie w XXI wieku będzie składała się z dwóch bloków: panelu dyskusyjnego i świadectwa. W pierwszej części\, wraz z małżeństwami spróbujemy odnaleźć odpowiedzi na pytania o tytułowe role\, szanse i wyzwania stojące w XXI wieku przed instytucją małżeństwa. W drugiej części posłuchamy poruszającego świadectwa o pogoni za dobrobytem\, o zaniechaniu rozmów ze współmałżonkiem\, o kłamstwie i zdradzie\, aż wreszcie o przebaczeniu\, naprawieniu krzywd oraz pojednaniu.  \nDo panelu dyskusyjnego zaprosiliśmy małżeństwa w różnym wieku i z różnym stażem małżeńskim: Oliwię i Piotra Adamowicz (Podboje We Dwoje)\, Ewę i Kamila Gizka (Wspólnota Święta Rodzina)\, Annę i Janusza Wardak (Akademia Wardaków). Dyskusję poprowadzi Kuba Witkowski – dziennikarz radiowy i założyciel Fundacji Pod Wspólnym Dachem. Natomiast świadectwem swojego małżeńskiego życia podzielą się Joanna i Rafał Patyra\, a rozmowę poprowadzi Weronika Ostrowska – dziennikarka Radia Warszawa.  \n*Skończyły się bilety? Bądź na bieżąco i zapisz się na Newsletter (dostępny tutaj). Jeśli zwolnią się miejsca poinformujemy Was na kilka dni przed wydarzeniem. \n\nRozmówcy \n\nOliwia i Piotr Adamowicz\nMałżeństwo z 5 letnim stażem. Pierwsze lata swojego życia spędzili na walizkach mieszkając w Anglii i we Włoszech. Tworzą społeczność Podboje we Dwoje na Instagramie\, gdzie towarzyszą parom w drodze do małżeństwa. W swoich social mediach podejmują tematykę relacji\, psychologii miłości i  małżeństwa. Od 1\,5 roku są rodzicami małego Józia. \n\nEwa i Kamil Gizka\nMałżeństwo sakramentalne od 7 lat i z burzliwą historią związku sprzed nawrócenia. Rodzice 4 dzieci; dwójki na ziemi i dwójki w Niebie. Należą do Wspólnoty Święta Rodzina w Zalesiu Górnym\, która organizuje weekendowe kursy dla małżeństw. Współtwórcy najnowszego kursu małżeńskiego we Wspólnocie: Gdybyśmy zaczynali od nowa. \n\nAnna i Janusz Wardak\nOd 28 lat są szczęśliwym małżeństwem i rodzicami dziesięciorga dzieci w wieku od 7 do 27 lat. Są jednymi z założycieli i moderatorów Akademii Familijnej w Polsce. Autorzy wykładów i prelekcji\, a także artykułów prasowych\, poświęconych wychowaniu dzieci\, miłości małżeńskiej i życiu rodzinnemu. Janusz jest stałym współpracownikiem Radia Warszawa w audycjach „Wychowywać\, ale jak?”\, a Ania felietonistką tygodnika „Idziemy”. Ania była koordynatorem współpracy z rodzicami w szkole „Strumienie”\, a Janusz – wicedyrektorem ds. wychowawczych szkoły dla chłopców „Żagle” Stowarzyszenia „Sternik”. Aktualnie oboje zajmują się prowadzeniem wykładów i szkoleń\, doradztwem rodzinnym i prowadzą wydawnictwo. Więcej na stronie Akademia Wardakowie \n\nJoanna i Rafał Patyra\nMałżeństwo po przejściach. Zna gorycz upadku\, ale i radość powstawania z duchowego dna. Uratowane przez Boga i świadczące publicznie o Jego realnej obecności. Rodzice czworga dzieci. Joanna jest naczelnym logistykiem i programistą domowego życia\, Rafał – dziennikarzem i prezenterem telewizyjnym. \nProwadzący \n\nJakub Witkowski\nMąż\, ojciec trojga dzieci\, dziennikarz radiowy i wiceprezes Fundacji POD WSPÓLNYM DACHEM. Od kilkunastu lat aktywnie wspiera i prowadzi inicjatywy dla narzeczonych i małżeństw. Miłośnik dobrej kuchni\, górskich\, zwłaszcza zimowych wypraw i orędownik rowerowego stylu życia. Meloman\, posiadacz kilkudziesięcioletniego gramofonu i wciąż rosnącego „stosiku” czarnych płyt.  \n\nWeronika Ostrowska\nDziennikarka\, prezenterka radiowa specjalizująca się w tematach związanych z Kościołem\, ewangelizacją i propagowaniem chrześcijańskich wartości. Autorka cyklu reportaży o rodzinie pt. „Szczęśliwa rodzina. Historia pisana życiem”. Pasjonuje ją człowiek i jego drogi poszukiwania szczęścia.
URL:https://wsercustolicy.pl/event/malzenstwo-w-xxi-wieku-rola-szanse-wyzwania-konferencja/
LOCATION:Scena Stygmat – sala widowiskowa w podziemiach kościoła Wszystkich Świętych\, Plac Grzybowski 3/5\, Warszawa\, 00-115\, Poland
CATEGORIES:Tydzień Małżeństwa W Sercu Stolicy w Warszawie
ATTACH;FMTTYPE=image/png:https://wsercustolicy.pl/wp-content/uploads/2023/12/TydzMalz-4.png
END:VEVENT
BEGIN:VEVENT
DTSTART;TZID=Europe/Warsaw:20240210T150000
DTEND;TZID=Europe/Warsaw:20240210T173000
DTSTAMP:20260423T094622
CREATED:20240111T202301Z
LAST-MODIFIED:20240115T123053Z
UID:340-1707577200-1707586200@wsercustolicy.pl
SUMMARY:Kryzys w małżeństwie - jak sobie poradzić i przetrwać (konferencja)
DESCRIPTION:Kryzysy są nieodłączną częścią budowania relacji\, szczególnie tak bliskiej jak małżeńska. Dzisiejszy świat częściej woli wyrzucać\, niż naprawiać – stąd też często mniejsza jest chęć do pracy nad swoim związkiem małżeńskim i wola dotrzymywania złożonej przysięgi małżeńskiej. Dlatego przekornie zachęcamy do zainwestowania czasu w rozwój swojego małżeństwa. Relacja ta powinna dawać spełnienie i satysfakcję. Jest wartościowa nie tylko dla samych małżonków\, ale także oddziałuje pozytywnie na społeczeństwo – ludzi wokół nas. \n>> ZAREJESTRUJ SIĘ* << \nNawet jeżeli w Waszym związku małżeńskim kryzys nigdy się jeszcze nie pojawił\, to i tak warto poznać narzędzia\, dzięki którym łatwiej będzie przezwyciężyć trudności\, gdy takie się pojawią. Swoim doświadczeniem i wiedzą podzielą się Zofia i Sławomir Ratajscy z Małżeńskich Dróg. Wskażą jak radzić sobie z kryzysami i je przetrwać oraz gdzie szukać wsparcia.  \n*Skończyły się bilety? Bądź na bieżąco i zapisz się na Newsletter (dostępny tutaj). Jeśli zwolnią się miejsca poinformujemy Was na kilka dni przed wydarzeniem. \n\nZofia i Sławomir Ratajscy\nAnimatorzy Małżeńskich Dróg\, którzy od 30 lat działają na rzecz narzeczonych i małżeństw.  \n \nMałżeńskie Drogi\nGrupa małżeństw i księży Kościoła Katolickiego\, zgromadzonych wokół tematu małżeństwa sakramentalnego. Celem jest głoszenie Dobrej Nowiny o miłości małżeńskiej. Organizują kurs bezpośredniego przygotowania do małżeństwa\, rekolekcje dla małżeństw i spotkania dla młodych małżeństw. Więcej na oficjalnej stronie Małżeńskich Dróg: www.malzenstwo.pl
URL:https://wsercustolicy.pl/event/kryzys-w-malzenstwie-jak-sobie-poradzic-i-przetrwac-konferencja/
LOCATION:Scena Stygmat – sala widowiskowa w podziemiach kościoła Wszystkich Świętych\, Plac Grzybowski 3/5\, Warszawa\, 00-115\, Poland
CATEGORIES:Tydzień Małżeństwa W Sercu Stolicy w Warszawie
ATTACH;FMTTYPE=image/png:https://wsercustolicy.pl/wp-content/uploads/2023/12/TydzMalz-5.png
END:VEVENT
BEGIN:VEVENT
DTSTART;TZID=Europe/Warsaw:20240210T150000
DTEND;TZID=Europe/Warsaw:20240210T180000
DTSTAMP:20260423T094622
CREATED:20240111T202504Z
LAST-MODIFIED:20240115T123214Z
UID:343-1707577200-1707588000@wsercustolicy.pl
SUMMARY:Dialog małżeński - metoda porozumiewania się (warsztat)
DESCRIPTION:Każdy małżonek jest w takim samym stopniu odpowiedzialny za budowanie relacji małżeńskiej. Wszystko zaczyna się od rozmowy\, a konkretnie od dialogu. Wydaje się\, że znając słowa i otwierając usta jesteśmy w stanie dobrze się komunikować. Niemniej\, czasami pojawia się niezrozumienie\, trudne do zniesienia emocje\, kłótnie.  \n>> ZAREJESTRUJ SIĘ* << \nWsparciem dla rozwoju i pogłębienia relacji jest dialog małżeński\, czyli konkretny\, sprecyzowany sposób pracy w parze. Warsztat przygotowany przez Małgorzatę i Pawła Świdzińskich z ruchu Spotkań Małżeńskich będzie idealnym wstępem do poznania tajników metody opracowanej przez Irenę i Jerzego Grzybowskich. \n*Skończyły się bilety? Bądź na bieżąco i zapisz się na Newsletter (dostępny tutaj). Jeśli zwolnią się miejsca poinformujemy Was na kilka dni przed wydarzeniem. \n\nMałgorzata i Paweł Świdzińscy\nAbsolwenci Studium Małżeństwa i Rodziny na Akademii Katolickiej w Warszawie\, obejmującego 2-letni kurs Porozumienia bez Przemocy (NVC) stworzonego przez Marshalla B. Rosenberga. Uczestnicy warsztatów Porozumienia bez Przemocy\, warsztatów pracy z grupą oraz warsztatów rozwoju osobistego. Małgosia jest coachem po szkole profesjonalnego coachingu prowadzonej przez IPRI. Ukończyła Studium Pomocy Psychologicznej w Ośrodku Pomocy i Edukacji Psychologicznej INTRA. Wieloletni animatorzy w ruchu Spotkania  Małżeńskie\, gdzie prowadzili wiele weekendów warsztatowo-rekolekcyjnych poświęconych dialogowi w małżeństwie oraz kursów przygotowujących do małżeństwa „Wieczory dla Zakochanych” i warsztatów o dialogu. Pracują w Pallotyńskim Centrum Pomocy Duchowej SITIS wspierając pary w budowaniu dobrej relacji. Prowadzili poradnię dla par i małżeństw przy kościele akademickim św. Anny\, a teraz są członkami zespołu Parafialnej Poradni Małżeńskiej i Rodzinnej w Ożarowie. \n \nSpotkania Małżeńskie \nsą założonym w Polsce międzynarodowym ruchem uznanym Dekretem Papieskiej Rady do Spraw Świeckich\, mającym na celu promowanie dialogu jako drogi duchowej w małżeństwie oraz przeżycia sakramentalnego wymiaru związku. Dokonuje się to poprzez proponowanie małżeństwom takiej formy dialogu\, która z jednej strony pozwoli mężowi i żonie głębiej poznać się nawzajem\, z drugiej zaś – w przypadku nieporozumień – pomoże rozwiązywać konflikty między małżonkami. Tym samym pogłębia się ich jedność. Poprzez dialog\, a w ślad zanim poprzez decyzje i postawy małżonków realizuje się w ich życiu przykazanie miłości. Więcej na oficjalnej stronie Spotkań Małżeńskich: www.spotkaniamalzenskie.pl \n 
URL:https://wsercustolicy.pl/event/dialog-malzenski-metoda-porozumiewania-sie-warsztat/
LOCATION:Sala św. Jana Bosko w podziemiach kościoła Wszystkich Świętych\, Plac Grzybowski 3/5\, Warszawa\, 00-115\, Poland
CATEGORIES:Tydzień Małżeństwa W Sercu Stolicy w Warszawie
ATTACH;FMTTYPE=image/png:https://wsercustolicy.pl/wp-content/uploads/2023/12/TydzMalz-6.png
END:VEVENT
BEGIN:VEVENT
DTSTART;TZID=Europe/Warsaw:20240210T180000
DTEND;TZID=Europe/Warsaw:20240210T180000
DTSTAMP:20260423T094622
CREATED:20240128T070057Z
LAST-MODIFIED:20240128T072156Z
UID:633-1707588000-1707588000@wsercustolicy.pl
SUMMARY:Wniesienie relikwii błogosławionej Rodziny Ulmów
DESCRIPTION:Wprowadzenie relikwii błogosławionej Rodziny Ulmów\, w sobotę 10 lutego o godz. 18:00. Mszy Świętej przewodniczy bp. Michał Janocha. \nWydarzenie wpisuje się w Tydzień Małżeństwa W Sercu Stolicy. \nPrzypomnijmy\, że  w kościele\, ratunek i schronienie znalazła ludność Żydowska uciekająca z getta warszawskiego w czasie II wojny światowej. Gmach otrzymał za to tytuł House Of Life (Dom Życia)\, a ówczesny proboszcz ks. Marceli Godlewski za swoje zasługi został pośmiertnie odznaczony medalem Sprawiedliwy Wśród Narodów Świata.
URL:https://wsercustolicy.pl/event/wniesienie-relikwii-blogoslawionej-rodziny-ulmow/
LOCATION:Kościół Wszystkich Świętych w Warszawie\, Plac Grzybowski 3/5\, Warszawa\, mazowieckie\, 00-115\, Poland
CATEGORIES:Tydzień Małżeństwa W Sercu Stolicy w Warszawie
ATTACH;FMTTYPE=image/png:https://wsercustolicy.pl/wp-content/uploads/2024/01/Wniesienie-relikwii-bl-rodziny-Ulmow.png
END:VEVENT
END:VCALENDAR