BEGIN:VCALENDAR
VERSION:2.0
PRODID:-//W Sercu Stolicy - ECPv6.2.8.1//NONSGML v1.0//EN
CALSCALE:GREGORIAN
METHOD:PUBLISH
X-ORIGINAL-URL:https://wsercustolicy.pl
X-WR-CALDESC:Events for W Sercu Stolicy
REFRESH-INTERVAL;VALUE=DURATION:PT1H
X-Robots-Tag:noindex
X-PUBLISHED-TTL:PT1H
BEGIN:VTIMEZONE
TZID:Europe/Warsaw
BEGIN:DAYLIGHT
TZOFFSETFROM:+0100
TZOFFSETTO:+0200
TZNAME:CEST
DTSTART:20240331T010000
END:DAYLIGHT
BEGIN:STANDARD
TZOFFSETFROM:+0200
TZOFFSETTO:+0100
TZNAME:CET
DTSTART:20241027T010000
END:STANDARD
END:VTIMEZONE
BEGIN:VEVENT
DTSTART;VALUE=DATE:20240207
DTEND;VALUE=DATE:20240214
DTSTAMP:20260423T080658
CREATED:20231210T205409Z
LAST-MODIFIED:20240111T203250Z
UID:218-1707264000-1707868799@wsercustolicy.pl
SUMMARY:Tydzień Małżeństwa W Sercu Stolicy
DESCRIPTION:Wydawałoby się\, że podstawowa komórka społeczna\, jaką jest rodzina nie potrzebuje promocji\, jest naturalna w cyklu życia człowieka. A jednak\, małżeństwa\, czyli fundament każdej rodziny\, w dzisiejszych czasach są w odwrocie. Liczba zawieranych związków sakramentalnych i cywilnych spada a ilość rozwodów rośnie. Stwarza to możliwości dla różnych inicjatyw\, które mają przypomnieć małżonkom\, że stały związek ma sens i wspierać ich w obranej drodze wspólnego życia. \nPapież Jan Paweł II\, przez cały pontyfikat\, zwracał uwagę na wyjątkową relację kobiety i mężczyzny. Dlatego w 1993 roku ustanowił Światowy Dzień Małżeństwa na drugą niedzielę lutego. Cztery lata później\, w Wielkiej Brytanii\, Richard Kane zorganizował pierwszy “małżeński tydzień”\, który rozwinął się w Międzynarodowy Tydzień Małżeństwa obchodzony w dniach 7-14 lutego. W Polsce\, projekt zainicjował oddział gdański Stowarzyszenia Psychologów Chrześcijańskich w 2015 roku. \nKościół Wszystkich Świętych na warszawskim Placu Grzybowskim leży w sercu stolicy. Jako jedyny jest skomunikowany przez obie linie metra – przystanek Świętokrzyska. Terytorialnie parafia obejmuje także PKiN oraz Warszawę Śródmieście i Dworzec Centralny. Właśnie w murach tego kościoła\, papież Jan Paweł II odprawił mszę świętą otwierając kongres eucharystyczny w 1987 roku. Dziś dbamy o pielęgnowanie jego nauk oraz korzystamy z dziedzictwa myśli\, słowa i czynu\, które zostawił. \nZaplanowaliśmy dla Was cały tydzień wydarzeń. Zapraszamy na modlitewne czuwanie\, warsztaty\, konferencje\, kulturalne randki i panel dyskusyjny\, a także na odnowienie przyrzeczeń małżeńskich. Naszymi gośćmi i prelegentami będą małżeństwa i eksperci\, którzy podzielą się wiedzą i doświadczeniem.  \nSzczegółowy program oraz zapisy na stronie Tydzień Małżeństwa w Warszawie\, w sercu stolicy
URL:https://wsercustolicy.pl/event/tydzien-malzenstwa-w-sercu-stolicy/
LOCATION:Kościół Wszystkich Świętych w Warszawie\, Plac Grzybowski 3/5\, Warszawa\, mazowieckie\, 00-115\, Poland
CATEGORIES:Tydzień Małżeństwa W Sercu Stolicy w Warszawie
ATTACH;FMTTYPE=image/png:https://wsercustolicy.pl/wp-content/uploads/2023/12/TydzMalzWsercuStolicy-POST_FB.png
END:VEVENT
BEGIN:VEVENT
DTSTART;TZID=Europe/Warsaw:20240211T110000
DTEND;TZID=Europe/Warsaw:20240211T120000
DTSTAMP:20260423T080658
CREATED:20240108T083655Z
LAST-MODIFIED:20240111T202555Z
UID:346-1707649200-1707652800@wsercustolicy.pl
SUMMARY:Msza Święta z odnowieniem przyrzeczeń małżeńskich (msza z udziałem dzieci)
DESCRIPTION:Światowy Dzień Małżeństwa celebrujemy we wspaniały sposób\, odnawiając przyrzeczenia małżeńskie w trakcie Mszy Świętej. Dziękczynienie i ponowne zapewnienie o miłości\, wierności i uczciwości małżeńskiej oraz o trwaniu razem aż do śmierci wypełni małżeńskie serca i mury kościoła.  \nZachęcamy do założenia odświętnego ubioru na tę poruszającą uroczystość! Niech to będzie wspaniałe świętowanie sakramentu małżeństwa.  \nWstęp wolny!
URL:https://wsercustolicy.pl/event/msza-swieta-z-odnowieniem-przyrzeczen-malzenskich-msza-z-udzialem-dzieci/
LOCATION:Kościół Wszystkich Świętych w Warszawie\, Plac Grzybowski 3/5\, Warszawa\, mazowieckie\, 00-115\, Poland
CATEGORIES:Tydzień Małżeństwa W Sercu Stolicy w Warszawie
ATTACH;FMTTYPE=image/png:https://wsercustolicy.pl/wp-content/uploads/2023/12/TydzMalz-7.png
END:VEVENT
BEGIN:VEVENT
DTSTART;TZID=Europe/Warsaw:20240211T123000
DTEND;TZID=Europe/Warsaw:20240211T133000
DTSTAMP:20260423T080658
CREATED:20240108T083819Z
LAST-MODIFIED:20240111T202601Z
UID:349-1707654600-1707658200@wsercustolicy.pl
SUMMARY:Msza Święta z odnowieniem przyrzeczeń małżeńskich
DESCRIPTION:Światowy Dzień Małżeństwa celebrujemy we wspaniały sposób\, odnawiając przyrzeczenia małżeńskie w trakcie Mszy Świętej. Dziękczynienie i ponowne zapewnienie o miłości\, wierności i uczciwości małżeńskiej oraz o trwaniu razem aż do śmierci wypełni małżeńskie serca i mury kościoła.  \nZachęcamy do założenia odświętnego ubioru na tę poruszającą uroczystość! Niech to będzie wspaniałe świętowanie sakramentu małżeństwa.  \nWstęp wolny!
URL:https://wsercustolicy.pl/event/msza-swieta-z-odnowieniem-przyrzeczen-malzenskich/
LOCATION:Kościół Wszystkich Świętych w Warszawie\, Plac Grzybowski 3/5\, Warszawa\, mazowieckie\, 00-115\, Poland
CATEGORIES:Tydzień Małżeństwa W Sercu Stolicy w Warszawie
ATTACH;FMTTYPE=image/png:https://wsercustolicy.pl/wp-content/uploads/2023/12/TydzMalz-7.png
END:VEVENT
END:VCALENDAR