BEGIN:VCALENDAR
VERSION:2.0
PRODID:-//W Sercu Stolicy - ECPv6.2.8.1//NONSGML v1.0//EN
CALSCALE:GREGORIAN
METHOD:PUBLISH
X-ORIGINAL-URL:https://wsercustolicy.pl
X-WR-CALDESC:Events for W Sercu Stolicy
REFRESH-INTERVAL;VALUE=DURATION:PT1H
X-Robots-Tag:noindex
X-PUBLISHED-TTL:PT1H
BEGIN:VTIMEZONE
TZID:Europe/Warsaw
BEGIN:DAYLIGHT
TZOFFSETFROM:+0100
TZOFFSETTO:+0200
TZNAME:CEST
DTSTART:20250330T010000
END:DAYLIGHT
BEGIN:STANDARD
TZOFFSETFROM:+0200
TZOFFSETTO:+0100
TZNAME:CET
DTSTART:20251026T010000
END:STANDARD
END:VTIMEZONE
BEGIN:VEVENT
DTSTART;TZID=Europe/Warsaw:20250311T184500
DTEND;TZID=Europe/Warsaw:20250311T184500
DTSTAMP:20260423T044924
CREATED:20250306T133937Z
LAST-MODIFIED:20250306T133937Z
UID:1639-1741718700-1741718700@wsercustolicy.pl
SUMMARY:spotkanie klubu fotograficznego | Wszyscy Święci Robią Zdjęcia
DESCRIPTION:Miłośnicy fotografii gorąco zapraszamy do naszego klubu fotograficznego Wszyscy Święci robią zdjęcia. \nDołączyć możecie przy okazji każdego spotkania!\n\nNajbliższe warsztaty już 11 marca (wtorek) o godz. 18:45 w podziemiach.\n\n Warsztaty\n\n\n Wymiana wiedzy\n Inspiracje\n Wspólne projekty\n Wystawy\n\n\nFacebook: https://www.facebook.com/profile.php?id=61557724394328\nStrona internetowa: https://www.wszyscyswiecirobiazdjecia.pl/
URL:https://wsercustolicy.pl/event/spotkanie-klubu-fotograficznego-wszyscy-swieci-robia-zdjecia/
CATEGORIES:warsztat
ATTACH;FMTTYPE=image/jpeg:https://wsercustolicy.pl/wp-content/uploads/2023/11/ailbhe-flynn-jkZs3Oi9pq0-unsplash-scaled.jpg
END:VEVENT
END:VCALENDAR