BEGIN:VCALENDAR
VERSION:2.0
PRODID:-//W Sercu Stolicy - ECPv6.2.8.1//NONSGML v1.0//EN
CALSCALE:GREGORIAN
METHOD:PUBLISH
X-ORIGINAL-URL:https://wsercustolicy.pl
X-WR-CALDESC:Events for W Sercu Stolicy
REFRESH-INTERVAL;VALUE=DURATION:PT1H
X-Robots-Tag:noindex
X-PUBLISHED-TTL:PT1H
BEGIN:VTIMEZONE
TZID:Europe/Warsaw
BEGIN:DAYLIGHT
TZOFFSETFROM:+0100
TZOFFSETTO:+0200
TZNAME:CEST
DTSTART:20250330T010000
END:DAYLIGHT
BEGIN:STANDARD
TZOFFSETFROM:+0200
TZOFFSETTO:+0100
TZNAME:CET
DTSTART:20251026T010000
END:STANDARD
END:VTIMEZONE
BEGIN:VEVENT
DTSTART;TZID=Europe/Warsaw:20250815T084500
DTEND;TZID=Europe/Warsaw:20250815T140000
DTSTAMP:20260419T172818
CREATED:20250808T083810Z
LAST-MODIFIED:20250808T083907Z
UID:1902-1755247500-1755266400@wsercustolicy.pl
SUMMARY:[wystawa] Gabinet Piłsudczyków Rafała Biernackiego | pamiątki kolekcjonerskie związane z Józefem Piłsudskim
DESCRIPTION:Zapraszamy na wystawę pamiątek kolekcjonerskich związanych z Józefem Piłsudskim „Gabinet Piłsudczyków Rafała Biernackiego”  w Święto Wniebowzięcia Najświętszej Maryi Panny i Święto Wojska Polskiego – w dzień upamiętniający 105. rocznicę Bitwy Warszawskiej 1920 roku.  \nTERMIN: 15 sierpnia 2025 (piątek) w godzinach 8:45 – 14:00\nMIEJSCE: Hol w podziemiach kościoła Wszystkich Świętych\, Plac Grzybowski 3/5\, Warszawa \nWstęp wolny!
URL:https://wsercustolicy.pl/event/wystawa-gabinet-pilsudczykow-rafala-biernackiego-pamiatki-kolekcjonerskie-zwiazane-z-jozefem-pilsudskim/
LOCATION:Hol w podziemiach kościoła Wszystkich Świętych\, Plac Grzybowski 3/5\, Warszawa\, Poland
CATEGORIES:wystawa
ATTACH;FMTTYPE=image/jpeg:https://wsercustolicy.pl/wp-content/uploads/2025/08/plakat_pilsudski_druk_A4_300dpi-scaled.jpg
END:VEVENT
END:VCALENDAR