BEGIN:VCALENDAR
VERSION:2.0
PRODID:-//W Sercu Stolicy - ECPv6.2.8.1//NONSGML v1.0//EN
CALSCALE:GREGORIAN
METHOD:PUBLISH
X-WR-CALNAME:W Sercu Stolicy
X-ORIGINAL-URL:https://wsercustolicy.pl
X-WR-CALDESC:Events for W Sercu Stolicy
REFRESH-INTERVAL;VALUE=DURATION:PT1H
X-Robots-Tag:noindex
X-PUBLISHED-TTL:PT1H
BEGIN:VTIMEZONE
TZID:Europe/Warsaw
BEGIN:DAYLIGHT
TZOFFSETFROM:+0100
TZOFFSETTO:+0200
TZNAME:CEST
DTSTART:20240331T010000
END:DAYLIGHT
BEGIN:STANDARD
TZOFFSETFROM:+0200
TZOFFSETTO:+0100
TZNAME:CET
DTSTART:20241027T010000
END:STANDARD
END:VTIMEZONE
BEGIN:VEVENT
DTSTART;TZID=Europe/Warsaw:20240128T180000
DTEND;TZID=Europe/Warsaw:20240128T180000
DTSTAMP:20260423T193948
CREATED:20231219T104722Z
LAST-MODIFIED:20231219T104722Z
UID:244-1706464800-1706464800@wsercustolicy.pl
SUMMARY:widowisko poetyckie "Nerwy. Wieczór z Norwidem"
DESCRIPTION:Teatr Klasyki Polskiej zaprasza na spektakl poetycki z muzyką na żywo\, którego scenariusz utkany jest z poezji Cypriana Kamila Norwida. Postać czwartego wieszcza od lat fascynuje Dariusza Kowalskiego. Wraz z Joachimem Menclem – wirtuozem liry korbowej – przygotowali szczególne widowisko. Doskonałym pomysłem na długi jesienny wieczór jest zanurzenie się w pięknej liryce w porywającej aktorskiej interpretacji Dariusza Kowalskiego. Twórcy przedstawienia zabierają Widzów w hipnotyzującą romantyczną podróż po zakamarkach duszy i serca proponując przeżycie przejmującego katharsis. \nBILETY DO NABYCIA NA: \n\nBILETYNA.PL\nTEATRKLASYKIPOLSKIEJ.PL\n\nWystępują:\nDariusz Kowalski\nJoachim Mencel (Lira korbowa) \nscenariusz i reżyseria Dariusz Kowalski
URL:https://wsercustolicy.pl/event/widowisko-poetyckie-nerwy-wieczor-z-norwidem/
LOCATION:Scena Stygmat – sala widowiskowa w podziemiach kościoła Wszystkich Świętych\, Plac Grzybowski 3/5\, Warszawa\, 00-115\, Poland
CATEGORIES:spektakl
ATTACH;FMTTYPE=image/jpeg:https://wsercustolicy.pl/wp-content/uploads/2023/12/Nerwy-Wieczor-z-Norwidem.jpg
END:VEVENT
BEGIN:VEVENT
DTSTART;TZID=Europe/Warsaw:20240128T200000
DTEND;TZID=Europe/Warsaw:20240128T200000
DTSTAMP:20260423T193948
CREATED:20231219T110756Z
LAST-MODIFIED:20231219T110756Z
UID:247-1706472000-1706472000@wsercustolicy.pl
SUMMARY:widowisko poetyckie "Nerwy. Wieczór z Norwidem"
DESCRIPTION:Teatr Klasyki Polskiej zaprasza na spektakl poetycki z muzyką na żywo\, którego scenariusz utkany jest z poezji Cypriana Kamila Norwida. Postać czwartego wieszcza od lat fascynuje Dariusza Kowalskiego. Wraz z Joachimem Menclem – wirtuozem liry korbowej – przygotowali szczególne widowisko. Doskonałym pomysłem na długi jesienny wieczór jest zanurzenie się w pięknej liryce w porywającej aktorskiej interpretacji Dariusza Kowalskiego. Twórcy przedstawienia zabierają Widzów w hipnotyzującą romantyczną podróż po zakamarkach duszy i serca proponując przeżycie przejmującego katharsis. \nBILETY DO NABYCIA NA: \n\nBILETYNA.PL\nTEATRKLASYKIPOLSKIEJ.PL\n\nWystępują:\nDariusz Kowalski\nJoachim Mencel (Lira korbowa) \nscenariusz i reżyseria Dariusz Kowalski
URL:https://wsercustolicy.pl/event/widowisko-poetyckie-nerwy-wieczor-z-norwidem-2/
LOCATION:Scena Stygmat – sala widowiskowa w podziemiach kościoła Wszystkich Świętych\, Plac Grzybowski 3/5\, Warszawa\, 00-115\, Poland
CATEGORIES:spektakl
ATTACH;FMTTYPE=image/jpeg:https://wsercustolicy.pl/wp-content/uploads/2023/12/Nerwy-Wieczor-z-Norwidem.jpg
END:VEVENT
END:VCALENDAR