BEGIN:VCALENDAR
VERSION:2.0
PRODID:-//W Sercu Stolicy - ECPv6.2.8.1//NONSGML v1.0//EN
CALSCALE:GREGORIAN
METHOD:PUBLISH
X-WR-CALNAME:W Sercu Stolicy
X-ORIGINAL-URL:https://wsercustolicy.pl
X-WR-CALDESC:Events for W Sercu Stolicy
REFRESH-INTERVAL;VALUE=DURATION:PT1H
X-Robots-Tag:noindex
X-PUBLISHED-TTL:PT1H
BEGIN:VTIMEZONE
TZID:Europe/Warsaw
BEGIN:DAYLIGHT
TZOFFSETFROM:+0100
TZOFFSETTO:+0200
TZNAME:CEST
DTSTART:20230326T010000
END:DAYLIGHT
BEGIN:STANDARD
TZOFFSETFROM:+0200
TZOFFSETTO:+0100
TZNAME:CET
DTSTART:20231029T010000
END:STANDARD
END:VTIMEZONE
BEGIN:VEVENT
DTSTART;TZID=Europe/Warsaw:20231126T160000
DTEND;TZID=Europe/Warsaw:20231126T160000
DTSTAMP:20260423T140507
CREATED:20231124T113146Z
LAST-MODIFIED:20231124T113243Z
UID:153-1701014400-1701014400@wsercustolicy.pl
SUMMARY:koncert poezji miłosnej "Niebo złote Ci otworzę"
DESCRIPTION:Jeśli chcesz poczuć klimat tej jesieni\, pięknej\, złotej\, do zakochania się… to ten koncert jest dla Ciebie! Dla niektórych językiem miłości jest słowo. Choć można wyrazić ją na wiele różnych sposobów. Dla nas poezja i muzyka to jednak najbardziej miłosne połączenie! Patryk Górecki skomponował muzykę do poezji 14 różnych polskich poetów. Jeżeli jesteście spragnieni wzruszeń to ten koncert jest dla was.\n\n\nMuzyka: Patryk Górecki\nSłowa: Wybitni poeci polscy\nWokal: Klaudia Kwaśny i Patryk Górecki\n\n\nWstęp Wolny
URL:https://wsercustolicy.pl/event/koncert-poezji-milosnej-niebo-zlote-ci-otworze/
LOCATION:Scena Stygmat – sala widowiskowa w podziemiach kościoła Wszystkich Świętych\, Plac Grzybowski 3/5\, Warszawa\, 00-115\, Poland
CATEGORIES:koncert
ATTACH;FMTTYPE=image/jpeg:https://wsercustolicy.pl/wp-content/uploads/2023/11/NIebo-zlote-ci-otworze-Fundacja-Miedzy-Slowami.jpg
END:VEVENT
END:VCALENDAR