BEGIN:VCALENDAR
VERSION:2.0
PRODID:-//W Sercu Stolicy - ECPv6.2.8.1//NONSGML v1.0//EN
CALSCALE:GREGORIAN
METHOD:PUBLISH
X-WR-CALNAME:W Sercu Stolicy
X-ORIGINAL-URL:https://wsercustolicy.pl
X-WR-CALDESC:Events for W Sercu Stolicy
REFRESH-INTERVAL;VALUE=DURATION:PT1H
X-Robots-Tag:noindex
X-PUBLISHED-TTL:PT1H
BEGIN:VTIMEZONE
TZID:Europe/Warsaw
BEGIN:DAYLIGHT
TZOFFSETFROM:+0100
TZOFFSETTO:+0200
TZNAME:CEST
DTSTART:20240331T010000
END:DAYLIGHT
BEGIN:STANDARD
TZOFFSETFROM:+0200
TZOFFSETTO:+0100
TZNAME:CET
DTSTART:20241027T010000
END:STANDARD
END:VTIMEZONE
BEGIN:VEVENT
DTSTART;TZID=Europe/Warsaw:20240111T190000
DTEND;TZID=Europe/Warsaw:20240111T190000
DTSTAMP:20260423T005835
CREATED:20231218T210321Z
LAST-MODIFIED:20231218T210321Z
UID:233-1704999600-1704999600@wsercustolicy.pl
SUMMARY:spektakl "Ambasador"
DESCRIPTION:„Ambasador” Sławomira Mrożka ma w sobie wszystko\, co najlepsze w twórczości autora Tanga. Absurdalny humor łączy się tutaj z niezwykle poważną refleksją nad kondycją współczesnego świata\, komizm przeplata się z tragizmem\, banał ze wzniosłością\, farsa z dramatem. Dowcip Mrożka w Ambasadorze\, tak jak w jego najwybitniejszych sztukach\, jest niewątpliwie zabawny\, ale nie beztroski\, wywołuje śmiech i niepokój zarazem\, odpręża i zmusza do myślenia. Warto się w ten żart uważnie wsłuchać\, by wśród wywoływanego przez niego\, szczerego chichotu\, wychwycić śmiertelnie poważne tony. \nBILETY DO NABYCIA NA PORTALU: \n\nBILETYNA.PL\n\nObsada: \nAndrzej Mastalerz – AMBASADOR\nMałgorzata Mikołajczak – AMELIE\nMaciej Wyczański – OTELLO\nDariusz Kowalski – CZŁOWIEK\nBartosz Turzyński – PEŁNOMOCNIK \nReżyseria Jarosław Gajewski\nDramaturgia Antoni Winch\nScenografia Marek Chowaniec\nKostiumy Aleksandra Reda\nWspółpraca reżyserska Michał Świechowski \nInformujemy\, że spóźnieni Widzowie nie będą wpuszczani na spektakl.\nCzas trwania spektaklu 120 minut z przerwą.
URL:https://wsercustolicy.pl/event/spektakl-ambasador-5/
LOCATION:Scena Stygmat – sala widowiskowa w podziemiach kościoła Wszystkich Świętych\, Plac Grzybowski 3/5\, Warszawa\, 00-115\, Poland
CATEGORIES:spektakl
ATTACH;FMTTYPE=image/jpeg:https://wsercustolicy.pl/wp-content/uploads/2023/11/Ambasador-Teatr-Klasyki-Polskiej.jpg
END:VEVENT
END:VCALENDAR