BEGIN:VCALENDAR
VERSION:2.0
PRODID:-//W Sercu Stolicy - ECPv6.2.8.1//NONSGML v1.0//EN
CALSCALE:GREGORIAN
METHOD:PUBLISH
X-WR-CALNAME:W Sercu Stolicy
X-ORIGINAL-URL:https://wsercustolicy.pl
X-WR-CALDESC:Events for W Sercu Stolicy
REFRESH-INTERVAL;VALUE=DURATION:PT1H
X-Robots-Tag:noindex
X-PUBLISHED-TTL:PT1H
BEGIN:VTIMEZONE
TZID:Europe/Warsaw
BEGIN:DAYLIGHT
TZOFFSETFROM:+0100
TZOFFSETTO:+0200
TZNAME:CEST
DTSTART:20240331T010000
END:DAYLIGHT
BEGIN:STANDARD
TZOFFSETFROM:+0200
TZOFFSETTO:+0100
TZNAME:CET
DTSTART:20241027T010000
END:STANDARD
END:VTIMEZONE
BEGIN:VEVENT
DTSTART;TZID=Europe/Warsaw:20240211T140000
DTEND;TZID=Europe/Warsaw:20240211T140000
DTSTAMP:20260423T005834
CREATED:20231219T121130Z
LAST-MODIFIED:20231219T121306Z
UID:254-1707660000-1707660000@wsercustolicy.pl
SUMMARY:spektakl „Śluby panieńskie"
DESCRIPTION:„Śluby panieńskie” \, czyli „Magnetyzm serca” to ponadczasowa komedia Aleksandra Fredry\, napisana prawie dwieście lat temu\, w 1832 r. Jej treścią jest miłość – główny temat teatru\, źródło wielu dramatów\, fundament niemal każdej akcji\, rdzeń postaci i najważniejszy wymiar metafizyczny. Mimo złożonych ślubów\, bohaterki nie są w stanie oprzeć się miłości\, którą odkrywają jako najpotężniejszy\, życiodajny żywioł. Klara i Aniela\, buńczuczny Gustaw i sentymentalny Albin\, wplątani w zabawne intrygi\, po wielu zaskakujących zwrotach akcji ostatecznie dokonują szczęśliwych wyborów. Upragniona przez wszystkich miłość okazuje się nie tylko wielka\, szczera i wzruszająca\, lecz także\, co najważniejsze\, szczęśliwa i odwzajemniona. \nBILETY DO NABYCIA NA PORTALACH: \n\nBILETYNA.PL\n\nreżyseria Lidia Sadowa\nmuzyka Marcin Pospieszalski\nscenografia i kostiumy Anna Czyż \nObsada: \nKsawery Szlenkier – GUSTAW\nMateusz Grydlik/Przemysław Wyszyński – ALBIN\nAngelika Kurowska – KLARA\nMarta Dylewska – ANIELA\nJoanna Kwiatkowska -Zduń/ Joanna Węgrzynowska – PANI DOBRÓJSKA\nLeszek Zduń – RADOST\nMaciej Wyczański/ Arkadiusz Janiczek – JAN \nInformujemy\, że spóźnieni Widzowie nie będą wpuszczani na spektakl.
URL:https://wsercustolicy.pl/event/spektakl-sluby-panienskie-7/
LOCATION:Scena Stygmat – sala widowiskowa w podziemiach kościoła Wszystkich Świętych\, Plac Grzybowski 3/5\, Warszawa\, 00-115\, Poland
CATEGORIES:spektakl
ATTACH;FMTTYPE=image/png:https://wsercustolicy.pl/wp-content/uploads/2023/11/Sluby-panienskie-Teatr-Klasyki-Polskiej.png
END:VEVENT
BEGIN:VEVENT
DTSTART;TZID=Europe/Warsaw:20240211T180000
DTEND;TZID=Europe/Warsaw:20240211T180000
DTSTAMP:20260423T005834
CREATED:20231219T121236Z
LAST-MODIFIED:20231219T121236Z
UID:256-1707674400-1707674400@wsercustolicy.pl
SUMMARY:spektakl „Śluby panieńskie"
DESCRIPTION:„Śluby panieńskie” \, czyli „Magnetyzm serca” to ponadczasowa komedia Aleksandra Fredry\, napisana prawie dwieście lat temu\, w 1832 r. Jej treścią jest miłość – główny temat teatru\, źródło wielu dramatów\, fundament niemal każdej akcji\, rdzeń postaci i najważniejszy wymiar metafizyczny. Mimo złożonych ślubów\, bohaterki nie są w stanie oprzeć się miłości\, którą odkrywają jako najpotężniejszy\, życiodajny żywioł. Klara i Aniela\, buńczuczny Gustaw i sentymentalny Albin\, wplątani w zabawne intrygi\, po wielu zaskakujących zwrotach akcji ostatecznie dokonują szczęśliwych wyborów. Upragniona przez wszystkich miłość okazuje się nie tylko wielka\, szczera i wzruszająca\, lecz także\, co najważniejsze\, szczęśliwa i odwzajemniona. \nBILETY DO NABYCIA NA PORTALACH: \n\nBILETYNA.PL\n\nreżyseria Lidia Sadowa\nmuzyka Marcin Pospieszalski\nscenografia i kostiumy Anna Czyż \nObsada: \nKsawery Szlenkier – GUSTAW\nMateusz Grydlik/Przemysław Wyszyński – ALBIN\nAngelika Kurowska – KLARA\nMarta Dylewska – ANIELA\nJoanna Kwiatkowska -Zduń/ Joanna Węgrzynowska – PANI DOBRÓJSKA\nLeszek Zduń – RADOST\nMaciej Wyczański/ Arkadiusz Janiczek – JAN \nInformujemy\, że spóźnieni Widzowie nie będą wpuszczani na spektakl.
URL:https://wsercustolicy.pl/event/spektakl-sluby-panienskie-8/
LOCATION:Scena Stygmat – sala widowiskowa w podziemiach kościoła Wszystkich Świętych\, Plac Grzybowski 3/5\, Warszawa\, 00-115\, Poland
CATEGORIES:spektakl
ATTACH;FMTTYPE=image/png:https://wsercustolicy.pl/wp-content/uploads/2023/11/Sluby-panienskie-Teatr-Klasyki-Polskiej.png
END:VEVENT
END:VCALENDAR