BEGIN:VCALENDAR
VERSION:2.0
PRODID:-//W Sercu Stolicy - ECPv6.2.8.1//NONSGML v1.0//EN
CALSCALE:GREGORIAN
METHOD:PUBLISH
X-WR-CALNAME:W Sercu Stolicy
X-ORIGINAL-URL:https://wsercustolicy.pl
X-WR-CALDESC:Events for W Sercu Stolicy
REFRESH-INTERVAL;VALUE=DURATION:PT1H
X-Robots-Tag:noindex
X-PUBLISHED-TTL:PT1H
BEGIN:VTIMEZONE
TZID:Europe/Warsaw
BEGIN:DAYLIGHT
TZOFFSETFROM:+0100
TZOFFSETTO:+0200
TZNAME:CEST
DTSTART:20250330T010000
END:DAYLIGHT
BEGIN:STANDARD
TZOFFSETFROM:+0200
TZOFFSETTO:+0100
TZNAME:CET
DTSTART:20251026T010000
END:STANDARD
END:VTIMEZONE
BEGIN:VEVENT
DTSTART;VALUE=DATE:20250207
DTEND;VALUE=DATE:20250217
DTSTAMP:20260420T032808
CREATED:20241224T100355Z
LAST-MODIFIED:20250124T122810Z
UID:1221-1738886400-1739750399@wsercustolicy.pl
SUMMARY:Tydzień Małżeństwa w Warszawie 2025 "Pełni wzajemnej uważności"
DESCRIPTION:Inicjatywa Tygodnia Małżeństwa w Warszawie zrodziła się z chęci promocji i celebracji szczególnej więzi kobiety i mężczyzny\, jaką jest małżeństwo. Wydarzenie jest okazją do wspólnego świętowania przez małżonków ich relacji. Wzmacnianie i pogłębianie łączących ich więzi różnorakimi sposobami i na różnych płaszczyznach ma dawać satysfakcję i spełnienie w codzienności. Tydzień Małżeństwa popularyzuje znaczenie zdrowych relacji małżeńskich wśród opinii publicznej\, specjalistów i mediów. \nPapież Jan Paweł II\, przez cały pontyfikat\, zwracał uwagę na wyjątkową relację kobiety i mężczyzny. Dlatego w 1993 roku ustanowił Światowy Dzień Małżeństwa na drugą niedzielę lutego. Cztery lata później\, w Wielkiej Brytanii\, Richard Kane zorganizował pierwszy “małżeński tydzień”\, który rozwinął się w Międzynarodowy Tydzień Małżeństwa obchodzony w dniach 7-14 lutego. W Polsce\, projekt zainicjował oddział gdański Stowarzyszenia Psychologów Chrześcijańskich w 2015 roku. \nKościół Wszystkich Świętych na warszawskim Placu Grzybowskim leży w sercu stolicy. Jako jedyny jest skomunikowany przez obie linie metra – przystanek Świętokrzyska. Terytorialnie parafia obejmuje także PKiN oraz Warszawę Śródmieście i Dworzec Centralny. Właśnie w murach tego kościoła\, papież Jan Paweł II odprawił mszę świętą otwierając kongres eucharystyczny w 1987 roku. Dziś dbamy o pielęgnowanie jego nauk oraz korzystamy z dziedzictwa myśli\, słowa i czynu\, które zostawił. \nZaplanowaliśmy dla Was wiele wydarzeń – odnowienie przyrzeczeń małżeńskich\, modlitwę\, warsztaty i wydarzenia kulturalne. Naszymi gośćmi i prelegentami będą małżeństwa i eksperci\, którzy podzielą się wiedzą i doświadczeniem.  \nSzczegółowy program oraz zapisy na stronie Tydzień Małżeństwa w Warszawie. \nWydarzenie jest częścią Międzynarodowego Tygodnia Małżeństwa a także ogólnopolskiego Tygodnia Małżeństwa.
URL:https://wsercustolicy.pl/event/tydzien-malzenstwa-w-warszawie-2025/
LOCATION:Kościół Wszystkich Świętych w Warszawie\, Plac Grzybowski 3/5\, Warszawa\, mazowieckie\, 00-115\, Poland
CATEGORIES:Tydzień Małżeństwa W Sercu Stolicy w Warszawie
ATTACH;FMTTYPE=image/png:https://wsercustolicy.pl/wp-content/uploads/2024/12/TydzMalz2025-0.png
END:VEVENT
BEGIN:VEVENT
DTSTART;TZID=Europe/Warsaw:20250207T070000
DTEND;TZID=Europe/Warsaw:20250216T193000
DTSTAMP:20260420T032808
CREATED:20250122T223053Z
LAST-MODIFIED:20250211T115731Z
UID:1298-1738911600-1739734200@wsercustolicy.pl
SUMMARY:Modlitwa za małżeństwa i rodziny przez wstawiennictwo bł. rodziny Ulmów (indywidualna modlitwa przy relikwiach)
DESCRIPTION:Zatrzymaj(cie) się i spójrzcie na wyjątkowe małżeństwo\, na niesamowitą rodzinę – inspirujcie się. Błogowiawieni Ulmowie z Markowej – Józef i Wiktora oraz Stanisława\, Barbara\, Władysław\, Franciszek\, Antoni\, Maria i dziecko nienarodzone spoglądają także na Was\, jakby z rodzinnej fotografii umieszczonej w relikwiarzu. To kochająca się rodzina\, wierząca\, zaangażowana\, wspierająca się\, rozwijająca swoje hobby\, dbająca o siebie nawzajem ale także o innych ludzi i otaczający świat.  \nNiech będą Waszymi orędownikami\, niech wstawiają się u Boga za Twoim małżeństwem i Twoją rodziną. Przyjdź(cie)\, pomódl(cie) się w ciszy i proś(cie) o ich wsparcie.  \nPrzed relikwiarzem umieszczona została specjalna modlitwa za małżeństwa i rodziny na czas Tygodnia Małżeństwa w Warszawie. Weźcie ją także ze sobą\, wraz z wizerunkiem błogosławionych. \n\nMożliwość prywatnej modlitwy w dniach 07 – 16 lutego 2025: \nod poniedziałku do soboty w godz. 7:00-18:30\,\nw niedzielę w godz. 6:30-19:30 \nw kościele Wszystkich Świętych\, Plac Grzybowski 3/5 w Warszawie\,\nprzy ołtarzu bocznym\, w transepcie zachodnim (prawym) – tak zwany “Zakątek Miłosierdzia i Rodziny”. \n\nRelikwie bł. rodziny Ulmów zostały uroczyście wprowadzone do kościoła Wszystkich Świętych podczas ubiegłorocznej edycji Tygodnia Małżeństwa w Warszawie\, W Sercu Stolicy. Znajdują się w transepcie zachodnim (prawym) w tak zwanym “zakątku miłosierdzia i rodziny”\, tuż obok obrazu Jezusa Miłosiernego i Jezusa błogosławiącego dzieci\, przy kaplicy adoracji. \nO relikwiarzu przeczytacie w artykule samego artysty „Tryptyk rodziny Ulmów – świadectwo heroizmu”: https://wszyscyswieci.pl/numer-30-wrzesien-2024/  \nO przestrzeni transeptu przeczytacie w artykule „Transept Zachodni”: https://wszyscyswieci.pl/numer-28-marzec-2024/ \nOrganizator: Wspólnota Młodych Małżeństw\, Fundacja Gaudium
URL:https://wsercustolicy.pl/event/modlitwa-za-malzenstwa-i-rodziny-przez-wstawiennictwo-bl-rodziny-ulmow-indywidualna-modlitwa-przy-relikwiach/
LOCATION:Kościół Wszystkich Świętych w Warszawie\, Plac Grzybowski 3/5\, Warszawa\, mazowieckie\, 00-115\, Poland
CATEGORIES:modlitwa / medytacja,Tydzień Małżeństwa W Sercu Stolicy w Warszawie
ATTACH;FMTTYPE=image/png:https://wsercustolicy.pl/wp-content/uploads/2025/01/TydzMalz2025-1.png
END:VEVENT
BEGIN:VEVENT
DTSTART;TZID=Europe/Warsaw:20250212T180000
DTEND;TZID=Europe/Warsaw:20250212T200000
DTSTAMP:20260420T032808
CREATED:20250122T223011Z
LAST-MODIFIED:20250211T115648Z
UID:1382-1739383200-1739390400@wsercustolicy.pl
SUMMARY:Uważność w małżeństwie - jak przechodzić przez kryzysy (spotkanie dla małżeństw) [ZAPISY]
DESCRIPTION:Jak bardzo trzeba być uważnym w Małżeństwie\, aby przechodzić kryzysy? Czy kiedy dochodzi do konfrontacji\, „walki”\, to jest to tylko zewnętrzna walka? Czym jest walka duchowa w Małżeństwie? Na te i inne pytania będziemy próbowali sobie odpowiedzieć podczas tej konferencji\, dając również świadectwo i przykłady z życia. A o tym\, jak można przejść kryzysy z pomocą innych Małżeństw\, powiemy Wam opowiadając o dziele Duchowej Adopcji Małżeństw. Od razu po spotkaniu\, zapraszamy na panel Q and A\, czyli pytania i odpowiedzi.  \n\n12 lutego 2025 – środa – godz. 18:00 – Scena Stygmat – sala widowiskowa w podziemiach kościoła Wszystkich Świętych\, Plac Grzybowski 3/5\, Warszawa \nObowiązują zapisy\, liczba miejsc ograniczona \nWydarzenie skierowane dla małżeństwa (2 osoby) – obligatoryjnie dla męża i żony. \nZAPISY: Kliknijcie TUTAJ i zapiszcie się (tylko\, gdy jesteście pewni\, że będziecie) \n*Skończyły się miejsca? Zapisz się na listę rezerwową – kliknij tutaj. \nOrganizator: Wspólnota Młodych Małżeństw\, Fundacja Gaudium \nSpotkanie poprowadzą: Katarzyna i Szymon Laskowscy • Wspólnota Małżeństw przy parafii św. Andrzeja Boboli w Warszawie \n\nKatarzyna i Szymon Laskowscy – Małżeństwo z 28 letnim stażem. Od 4 lat pełnią służebną funkcję we Wspólnocie jako jej liderzy. Prywatnie\, z Woli Boga\, Rodzice jedynego Syna\, a od 2024r teściowie. \nKatarzyna od wielu lat związana z również z Domem Miłosierdzia\, w którym posługuje modlitwą uwolnienia (tzw. Modlitwą 5 Kluczy). Wielokrotnie prowadziła konferencje\, warsztaty i szkolenia w temacie walki duchowej i rozwoju życia duchowego oraz posługi modlitwą uwolnienia. \nZ powołania i natchnienie Ducha Świętego\, Katarzyna i Szymon są inicjatorami dzieła Duchowa Adopcja Małżeństw w kryzysie DAM. Obecnie\, w trakcje przygotowania Ogólnopolskiej akcji „Rozmodlić Małżeństwa”. \nhttps://wspolnotamalzenstw.pl/ \nhttps://www.facebook.com/WspolnotaMalzenstw/ \nhttps://www.adopcjamalzenstw.pl/
URL:https://wsercustolicy.pl/event/uwaznosc-w-malzenstwie-jak-przechodzic-przez-kryzysy-spotkanie-dla-malzenstw/
LOCATION:Scena Stygmat – sala widowiskowa w podziemiach kościoła Wszystkich Świętych\, Plac Grzybowski 3/5\, Warszawa\, 00-115\, Poland
CATEGORIES:konferencja / wykład / katecheza / spotkanie,Tydzień Małżeństwa W Sercu Stolicy w Warszawie
ATTACH;FMTTYPE=image/png:https://wsercustolicy.pl/wp-content/uploads/2025/01/TydzMalz2025-6.png
END:VEVENT
END:VCALENDAR